BEGIN:VCALENDAR
VERSION:2.0
PRODID:-//Vortex Jazz Club - ECPv4.1.3//NONSGML v1.0//EN
CALSCALE:GREGORIAN
METHOD:PUBLISH
X-WR-CALNAME:Vortex Jazz Club
X-ORIGINAL-URL:https://www.vortexjazz.co.uk
X-WR-CALDESC:Events for Vortex Jazz Club
BEGIN:VEVENT
DTSTART;TZID=UTC+0:20131119T200000
DTEND;TZID=UTC+0:20131119T200000
DTSTAMP:20260421T013215
CREATED:20131104T171305
LAST-MODIFIED:20131104T171305
UID:272-1384891200-1384891200@www.vortexjazz.co.uk
SUMMARY:Maggie Nicols / Denis Charolles / David Chevallier +  Laura Jurd Quartet feat Lauren Kinsella
DESCRIPTION:Part of the EFG London Jazz Festival\n\nImprovisations and sound games carried by Maggie Nicols’ voice\, with the phenomenal duo of Charolles & Chevallier. The trio first met & played in France in 2008 and the complicit understanding between the three was inmmediately tangible; each speaking\, singing and improvising as one. Tonight they rediscover that connection with standards from the soul and jazz worlds.\n\nMaggie Nicols (vocals)\nDenis Charolles (drums\, percussion\, trombone\, watering-can\, bugle and mouthpieces\, vocals)\nDavid Chevallier (guitars / banjo)\n\nIn support is the Laura Jurd Quartet featuring Lauren Kinsella. An intriguing\, creative outfit of hugely talented young musicians who create an intriguing and irresistible soundworld.\n\nMaggie Nicols\n\nFrom dancer in the Moulin Rouge to working in a strip club\, singing with revolutionary bebop pianist Dennis Rose\, Maggie Nicols joined John Stevens' Spontaneous Music Ensemble with Trevor Watts\, later joined by Johnny Dyani and Carolanne Nicholls. She ran voice workshops at the Oval House Theatre\, played in a rock band called Octuin. She became part of Keith Tippett's magnificent fifty piece band "Centipede" which included Julie Tippetts\, Zoot Money\, Phil Minton\, Robert Wyatt\, Dudu Pukwana and Alan Skidmore. She started a Feminist Improvising Group and performed with Günter "Baby" Sommer\, Lol Coxhill\, John Russell\, Annemarie Roelofs\, the Australian Relative Band\, Joëlle Leandre...\n\nLaura Jurd Quartet featuring Lauren Kinsella\n\nThe Laura Jurd Quartet are an intriguing\, creative outfit featuring improvisers\, Elliot Galvin- piano Conor Chaplin- electric bass and Corrie Dick- drums. Drawing upon original compositions and traditional melodies as a basis for improvisation\, this classic quartet line-up fuses elements of European folk\, Jazz and Classical traditions\, creating a unique and distinctive soundworld. Whether rocking out full steam or exploring captivating moments of stillness\, this ensemble is sure to put a smile on your face. Tonight they will be joined by experimental vocalist Lauren Kinsella.
URL:https://www.vortexjazz.co.uk/event/maggie-nicols-denis-charolles-david-chevallier-laura-jurd-quartet-feat-lauren-kinsella/
LOCATION:11 Gillett Square\, London\, N16 8AZ
GEO:51.5487082;-0.0764992
X-APPLE-STRUCTURED-LOCATION;VALUE=URI;X-ADDRESS=11 Gillett Square London N16 8AZ;X-APPLE-RADIUS=500;X-TITLE=11 Gillett Square:geo:-0.0764992,51.5487082
ATTACH;FMTTYPE=image/jpeg:https://www.vortexjazz.co.uk/wp-content/uploads/2013/11/19-Nov-Nichols-Charolles-Chevallier.jpg
END:VEVENT
END:VCALENDAR