BEGIN:VCALENDAR
VERSION:2.0
PRODID:-//Vortex Jazz Club - ECPv4.1.3//NONSGML v1.0//EN
CALSCALE:GREGORIAN
METHOD:PUBLISH
X-WR-CALNAME:Vortex Jazz Club
X-ORIGINAL-URL:https://www.vortexjazz.co.uk
X-WR-CALDESC:Events for Vortex Jazz Club
BEGIN:VEVENT
DTSTART;TZID=UTC+0:20140421T200000
DTEND;TZID=UTC+0:20140421T233000
DTSTAMP:20260421T095312
CREATED:20140210T154913
LAST-MODIFIED:20140210T154913
UID:977-1398110400-1398123000@www.vortexjazz.co.uk
SUMMARY:Metamorphic + The Stolen Project
DESCRIPTION:Metamorphic\n\nMetamorphic are a contemporary jazz/folk sextet. The group’s second album\,Coalescence\, has received 4 star reviews from the likes of John Fordham and Pete Quinn; Brian Morton named Coalescence as his album of the year 2013. Metamorphic are very excited about the prospect of this double bill with Jason Singh\, which will also be collaborative.\n\nMetamorphic are: Chris Williams\, alto; John Martin\, tenor; Kerry Andrew\, vocals; Tom Greenhalgh\, drums; Paul Sandy\, double bass; Seth Bennett\, double bass; Laura Cole\, piano/composer/arranger\n\nThe Stolen Project\n\nThe Stolen Project started out of an experience to create a soundtrack for the Jack Karouac’s novel “On The Road”\, meanwhile the project has follow new directions mixing improvised music with structured compositions\, but always following the its main purpose of creating musical landscapes inviting the listener to close their eyes and imagine its own movie.\n\nPaulo Dias Duarte - Guitar/Composition; Ben Bastin - Bass; Chris Williams - Saxophones; Danny Keane - Cello; Raven Bush - Violin; Mike Caratti - Drums\n\n \n
URL:https://www.vortexjazz.co.uk/event/977/
LOCATION:11 Gillett Square\, London\, N16 8AZ
GEO:51.5487082;-0.0764992
X-APPLE-STRUCTURED-LOCATION;VALUE=URI;X-ADDRESS=11 Gillett Square London N16 8AZ;X-APPLE-RADIUS=500;X-TITLE=11 Gillett Square:geo:-0.0764992,51.5487082
ATTACH;FMTTYPE=image/jpeg:https://www.vortexjazz.co.uk/wp-content/uploads/2014/02/metamorphical.jpg
END:VEVENT
END:VCALENDAR