BEGIN:VCALENDAR
VERSION:2.0
PRODID:-//Vortex Jazz Club - ECPv4.1.3//NONSGML v1.0//EN
CALSCALE:GREGORIAN
METHOD:PUBLISH
X-WR-CALNAME:Vortex Jazz Club
X-ORIGINAL-URL:https://www.vortexjazz.co.uk
X-WR-CALDESC:Events for Vortex Jazz Club
BEGIN:VEVENT
DTSTART;TZID=UTC+0:20140513T200000
DTEND;TZID=UTC+0:20140513T233000
DTSTAMP:20260421T114026
CREATED:20140210T125739
LAST-MODIFIED:20140210T125739
UID:936-1400011200-1400023800@www.vortexjazz.co.uk
SUMMARY:Tony Malaby / Olie Brice / Jeff Williams
DESCRIPTION:Playing a very special show\, joined by the formidable rhythm section of Olie Brice (bass) and Jeff Williams (drums)\, we welcome sax supremo Tony Malaby.\n\nTONY MALABY\n\nOriginally from Tucson\, Arizona\, Tony Malaby has been permanently based in New York since 1995 and has been a member of many notable jazz groups including Charlie Haden’s Liberation Orchestra\, Paul Motian's Electric Bebop Band\, Mark Helias' Open Loose\, Fred Hersch's quintet and Walt Whitman project\, Michell Portal's Birdwatcher\, various projects with Daniel Humair and bands led by Mario Pavone\, Tim Berne\, Chris Lightcap\, Kris Davis\, Angelica Sanchez\, Michael Attias and Marty Ehrlich.\n\nHis debut cd "Sabino" (Arabesque) made the NY Times and Philadelphia City Paper's top ten jazz lists for 2000. He has a brand new release: "Tamarindo" with bassist William Parker and Nasheet Waits on drums. It is available on the Clean Feed label. His other releases include: "Adobe" available on Sunnyside in the US\, featuring Drew Gress and Paul Motian; "Apparitions" on the Songlines label featuring Tom Rainey\, Mike Sarin\, and Drew Gress; and "Alive in Brooklyn Vol. 1 andVol. 2" featuring Angelica Sanchez and Tom Rainey.\n\nTony leads several projects of his own including: APPARITIONS featuring: Drew Gress\, Tom Rainey and Mike Sarin. The Tony Malaby CELLO TRIO\, featuring Chicago cellist Fred Lonberg-Holm and percussionist John Hollenbeck. The quartet PALOMA RECIO (Loud Dove) with Ben Monder\, Eivind Opsvik and Nashhet Waits. The trio TAMARINDO featuring bassist William Parker and Nasheet Waits on drums. Tony co-leads the Malaby Sanchez Rainey Trio\n\nOLIE BRICE\n\nOlie Brice is a jazz and improv double bassist\, based in London. He leads and composes for The Olie Brice Quartet\, featuring Mark Hanslip (tenor)\, Alex Bonney (trumpet) and Jeff Williams (drums). This band sometimes becomes a quintet with the addition of Waclaw Zimpel (clarinet). Olie's involved in several collaborative projects\, including:\nRiverloam Trio – (Mikolaj Trzaska – alto sax\, bass clarinet and Mark Sanders – drums)\nBABs (James Allsopp – bass clarinet\, Alex Bonney – laptop)\nCatatumbo (trio with Ingrid Laubrock – tenor and Javier Carmona – drums)\nDuo with Neil Metcalfe – flute\nTrio with Alex Ward - clarinet and Steve Noble – drums\nTrio with Dave Birchall – guitar and Phillip Marks – drums\n\nJEFF WILLIAMS\n\nFor the last several years Jeff has been dividing his time between New York and London.\n\nJeff has also been performing with his UK Quintet featuring Finn Peters-alto saxophone and flute\, Josh Arcoleo-tenor saxophone\, Phil Robson-guitar and Sam Lasserson-bass. Recent appearances have included the London Jazz Festival at the Green Note (2011\, 2012\, 2013) and the Vortex Jazz Club with pianist Kit Downes added. The Quintet performs at The Amazonas Jazz Festival in Manaus\, Brazil on July 26\, 2013.
URL:https://www.vortexjazz.co.uk/event/tony-malaby-olie-brice-jeff-williams/
LOCATION:11 Gillett Square\, London\, N16 8AZ
GEO:51.5487082;-0.0764992
X-APPLE-STRUCTURED-LOCATION;VALUE=URI;X-ADDRESS=11 Gillett Square London N16 8AZ;X-APPLE-RADIUS=500;X-TITLE=11 Gillett Square:geo:-0.0764992,51.5487082
END:VEVENT
END:VCALENDAR