BEGIN:VCALENDAR
VERSION:2.0
PRODID:-//Vortex Jazz Club - ECPv4.1.3//NONSGML v1.0//EN
CALSCALE:GREGORIAN
METHOD:PUBLISH
X-WR-CALNAME:Vortex Jazz Club
X-ORIGINAL-URL:https://www.vortexjazz.co.uk
X-WR-CALDESC:Events for Vortex Jazz Club
BEGIN:VEVENT
DTSTART;TZID=UTC+0:20140519T194500
DTEND;TZID=UTC+0:20140519T233000
DTSTAMP:20260421T114026
CREATED:20140403T150608
LAST-MODIFIED:20140403T150608
UID:1339-1400528700-1400542200@www.vortexjazz.co.uk
SUMMARY:Royal Academy of Music: Jazz Final Recitals
DESCRIPTION:As the culmination of their studies at the Royal Academy of Music\, jazz students perform their final recital programmes in one of London's top jazz venues. This is a chance to hear the jazz stars of tomorrow present their ensembles in a 45 minute set\, these are always exciting and energising musical nights and a highlight of the calendar. There is free entry to these performances so come down and see that the future of jazz is in very safe hands!\n\n 
URL:https://www.vortexjazz.co.uk/event/royal-academy-of-music-jazz-final-recitals/
END:VEVENT
END:VCALENDAR