BEGIN:VCALENDAR
VERSION:2.0
PRODID:-//Vortex Jazz Club - ECPv4.1.3//NONSGML v1.0//EN
CALSCALE:GREGORIAN
METHOD:PUBLISH
X-WR-CALNAME:Vortex Jazz Club
X-ORIGINAL-URL:https://www.vortexjazz.co.uk
X-WR-CALDESC:Events for Vortex Jazz Club
BEGIN:VEVENT
DTSTART;TZID=UTC+0:20140515T100000
DTEND;TZID=UTC+0:20140515T120000
DTSTAMP:20260421T091122
CREATED:20140512T105758
LAST-MODIFIED:20140512T105758
UID:1898-1400148000-1400155200@www.vortexjazz.co.uk
SUMMARY:Tots Tunes
DESCRIPTION:For parents and babies/toddlers (0-5s)\n\nCreated and led by Tara Franks. This joy-filled class offers the opportunity for parents to sing\, dance and shake along to songs from around the world and original tunes. All accompanied by cello or djembe.\n\nClick to read review in the Hackney Gazette\nWeekly sessions\nPlease note classes are 45 minutes.\nWednesday - 11.00am\nThursdays - 10.00am & 11.00am\nSaturday session at 10am\nPlease note classes are 45 minutes.\nMay 10th\nMay 17th\nMay 24th\nJune 14th\nJune 28th\nJuly 12th\n\nEmail Tara at soundscreativeprojects@gmail.com or check for updates on facebook.com/totstuneswithtara\n\n \n\n\nVoted by Netmums as their favourite pre-school class in Hackney
URL:https://www.vortexjazz.co.uk/event/tots-tunes-2-2-2-4-2014-05-08-2/2014-05-15/
LOCATION:11 Gillett Square\, London\, N16 8AZ
GEO:51.5487082;-0.0764992
X-APPLE-STRUCTURED-LOCATION;VALUE=URI;X-ADDRESS=11 Gillett Square London N16 8AZ;X-APPLE-RADIUS=500;X-TITLE=11 Gillett Square:geo:-0.0764992,51.5487082
ATTACH;FMTTYPE=image/jpeg:https://www.vortexjazz.co.uk/wp-content/uploads/2014/03/IMG_6485.jpg
END:VEVENT
BEGIN:VEVENT
DTSTART;TZID=UTC+0:20140703T200000
DTEND;TZID=UTC+0:20140703T230000
DTSTAMP:20260421T091122
CREATED:20140403T164115
LAST-MODIFIED:20140403T164115
UID:1354-1404417600-1404428400@www.vortexjazz.co.uk
SUMMARY:Teotima SOLD OUT
DESCRIPTION:"Excellent release." Gilles Peterson\, BBC6 Music\n\n"On first listen\, this could well be album of the year!" Mike Chadwick\, Jazz FM\n\nTeotima is a 16-piece jazz / afro-latin / soul ensemble from London. Guitarist-composer Greg Sanders started Teotima; taking the powerful\, elegant but deceptively complex grooves of West Africa\, Cuba and Brazil and adding the sensibility of classic American soul and funk.\n\nAs an intrinsically live project\, all the individual band members are key to the project and their improvisation is a central part of the music. In 2013 Teotima recorded the LP ‘Counting The Ways’\, released on First Word Records. Recorded as-live at London's Fishmarket Studios under the watchful eye of engineer Ben 'Nostalgia 77' Lamdin\, the record achieves a synchronicity that only this kind of old-fashioned approach can produce.\n\nOne of the most striking things about the music is its huge scope. The arrangements of Gil Evans and David Axelrod\, grooves reminiscent of Arthur Verocai and the Fania All Stars\, and the textures of artists like Floating Points Ensemble and Snarky Puppy. The band also feature the voice of Ellie Rose Rusbridge\, known to some as the voice of The Beguilers.\n\n 
URL:https://www.vortexjazz.co.uk/event/teotima/
LOCATION:11 Gillett Square\, London\, N16 8AZ
GEO:51.5487082;-0.0764992
X-APPLE-STRUCTURED-LOCATION;VALUE=URI;X-ADDRESS=11 Gillett Square London N16 8AZ;X-APPLE-RADIUS=500;X-TITLE=11 Gillett Square:geo:-0.0764992,51.5487082
ATTACH;FMTTYPE=image/jpeg:https://www.vortexjazz.co.uk/wp-content/uploads/2014/04/Teotima.jpg
END:VEVENT
END:VCALENDAR