BEGIN:VCALENDAR
VERSION:2.0
PRODID:-//Vortex Jazz Club - ECPv4.1.3//NONSGML v1.0//EN
CALSCALE:GREGORIAN
METHOD:PUBLISH
X-WR-CALNAME:Vortex Jazz Club
X-ORIGINAL-URL:https://www.vortexjazz.co.uk
X-WR-CALDESC:Events for Vortex Jazz Club
BEGIN:VEVENT
DTSTART;TZID=UTC+0:20140715T183000
DTEND;TZID=UTC+0:20140715T210000
DTSTAMP:20260421T114022
CREATED:20140627T165747
LAST-MODIFIED:20140627T165747
UID:2239-1405449000-1405458000@www.vortexjazz.co.uk
SUMMARY:Vegan Pop Up Restaurant
DESCRIPTION:The Vortex Downstairs holds its second vegan popup night with a delicious three-course set meal for £15.\n\nChef Emily Stephenson has previously worked at the Wild Food Café in Covent Garden\n\nBook early to avoid disappointment
URL:https://www.vortexjazz.co.uk/event/vegan-pop-up-restaurant/
LOCATION:11 Gillett Square\, London\, N16 8AZ
GEO:51.5487082;-0.0764992
X-APPLE-STRUCTURED-LOCATION;VALUE=URI;X-ADDRESS=11 Gillett Square London N16 8AZ;X-APPLE-RADIUS=500;X-TITLE=11 Gillett Square:geo:-0.0764992,51.5487082
ATTACH;FMTTYPE=image/jpeg:https://www.vortexjazz.co.uk/wp-content/uploads/2014/06/Vegan-Vortex.jpg
END:VEVENT
BEGIN:VEVENT
DTSTART;TZID=UTC+0:20140715T200000
DTEND;TZID=UTC+0:20140715T230000
DTSTAMP:20260421T114022
CREATED:20140605T132232
LAST-MODIFIED:20140605T132232
UID:2053-1405454400-1405465200@www.vortexjazz.co.uk
SUMMARY:Adriano Adewale
DESCRIPTION:Adriano Adewale is a mesmerizing multi-dimensional percussionist who follows in the footsteps of fellow Brasilian Nana Vasconcelos. His Raizes ensemble features Kora player virtuoso Kadialy Kouyate and Marcelo Andrade on flutes and Rikki Thompson on bass.\n\nUniversally enthusiastic reviews in the Guardian\, Financial Times and Jazzwise of Adewale’s latest recordings generated glowing comments like “tranquil but elegantly executed world music but with plenty of muscle… a superb set” alongside the poetic accolade of “the gentle glissando of the kora\, discreet curl of the double bass and hovering strings is inspired”. Adriano Adewale and Raizes’ free flowing compositions and extraordinary palette of organic colour and sound conjures the subtle strength of the African-diaspora and warm feminine grace.\n\nAdriano Adewale - Percussion/Vocals\nKadialy Kouyate - kora/Vocals\nMarcelo Andrade - Sax/Flute/Rabeca\nMatheus Nova - Acoustic bass\n\n 
URL:https://www.vortexjazz.co.uk/event/adriano-adewale/
LOCATION:11 Gillett Square\, London\, N16 8AZ
GEO:51.5487082;-0.0764992
X-APPLE-STRUCTURED-LOCATION;VALUE=URI;X-ADDRESS=11 Gillett Square London N16 8AZ;X-APPLE-RADIUS=500;X-TITLE=11 Gillett Square:geo:-0.0764992,51.5487082
ATTACH;FMTTYPE=image/jpeg:https://www.vortexjazz.co.uk/wp-content/uploads/2014/06/Adriano-Adewale.jpg
END:VEVENT
END:VCALENDAR