BEGIN:VCALENDAR
VERSION:2.0
PRODID:-//Vortex Jazz Club - ECPv4.1.3//NONSGML v1.0//EN
CALSCALE:GREGORIAN
METHOD:PUBLISH
X-WR-CALNAME:Vortex Jazz Club
X-ORIGINAL-URL:https://www.vortexjazz.co.uk
X-WR-CALDESC:Events for Vortex Jazz Club
BEGIN:VEVENT
DTSTART;TZID=UTC+0:20140719T140000
DTEND;TZID=UTC+0:20140719T230000
DTSTAMP:20260421T114017
CREATED:20140628T102220
LAST-MODIFIED:20140628T102220
UID:2243-1405778400-1405810800@www.vortexjazz.co.uk
SUMMARY:Dance Nations Dalston
DESCRIPTION:For the fifth year running\, head to Dalston’s hippest square for a packed day of live music and dance workshops. For all ages and abilities\, this annual event unites some of east London’s finest talent to create a carnival spirit. Grab your glad rags and dancing shoes or simply relax and soak up the summer atmosphere.\n\nFeaturing live music by Meridian Brothers\, The Mahotella Queens\, Winston McAnuff & Fixi\, Lokandes\, plus Movimientos presents: DJs Richard Blair (Sidestepper / Colombia) /  Eblis Alvarez (Meridian Brothers / Colombia) / DJ iZem (Groovalizacion / Gamm Records).\n\nPerformances by Tropical Isles\, Bollywood Vibes\, Black Eagles\, Rock-a-hula and Boy Blue Entertainment\n\nThe day ends with a screening of the stunning documentary Samsara and Movimientos DJs in the Vortex.\n\nProduced in association with the Barbican
URL:https://www.vortexjazz.co.uk/event/dance-nations-dalston/
ATTACH;FMTTYPE=image/jpeg:https://www.vortexjazz.co.uk/wp-content/uploads/2014/04/DSC00097.jpg
END:VEVENT
BEGIN:VEVENT
DTSTART;TZID=UTC+0:20140719T210000
DTEND;TZID=UTC+0:20140719T210000
DTSTAMP:20260421T114017
CREATED:20140629T193157
LAST-MODIFIED:20140629T193157
UID:2255-1405803600-1405803600@www.vortexjazz.co.uk
SUMMARY:Dance Nations Dalston
DESCRIPTION:For the fifth year running\, in partnership with the Barbican\, we present a day of music and dance in Gillett Square and the Vortex. So grab your glad rags and dancing shoes or just relax and soak up the summer atmosphere.\n\nIN GILLETT SQUARE\n\n1.50–2pm\n\nDrum Works\n\nFeel the rhythm with the young Barbican Guildhall Creative Learning drummers\n\n2–2.40pm\n\nTropical Isles\n\nDance for the whole family with a burst of uplifting carnival spirit\n\n2.40–3.20pm\n\nBollywood Vibes\n\nWatch and learn some energetic Bollywood moves\n\n3.20–4.10pm\n\nLokandes\n\nUnique sounds from London’s Afro-Peruvian and Latin-Andean fusion maestros\n\n4.10–4.20pm\n\nDrum Works\n\n4.20–4.50pm\n\nBlack Eagles\n\nJaw-dropping acrobatics all the way from Tanzania\n\n4.50–5.40pm\n\nThe Mahotella Queens\n\nCatch the infectious songs and harmonies of South Africa’s legendary vocal group\n\n5.40–5.50pm\n\nDrum Works\n\n5.50–6.30pm\n\nRock-a-hula\n\nHead back to the 50s with rock and roll\, hula hooping and swing dance.\n\n6.30–7.20pm\n\nWinston McAnuff & Fixi\n\nSoulful reggae with a beguiling French twist\n\n7.20–8pm\n\nBoy Blue Entertainment\n\nLondon’s award-winning hip-hop company presents electrifying dance sequences\n\n8–9pm\n\nMeridian Brothers\n\nTropical psychedelia from Colombia’s finest musical mavericks\n\n9– 9.30pm\n\nShort Films\n\n9.30–11pm\n\nSamsara\n\nRelax with this stunning documentary film and be transported to the varied natural wonders\, sacred sites and disaster zones of our planet.\n\nIN THE VORTEX\n\n9pm–12am\, The Vortex\n\nMovimientos presents:\n\nDJ Richard Blair (Sidestepper/Colombia) / Eblis Alvarez (Meridian Brothers/Colombia) / DJ iZem (Groovalizacion/Gamm Records)\n\n 
URL:https://www.vortexjazz.co.uk/event/dance-nations-dalston-2/
LOCATION:11 Gillett Square\, London\, N16 8AZ
GEO:51.5487082;-0.0764992
X-APPLE-STRUCTURED-LOCATION;VALUE=URI;X-ADDRESS=11 Gillett Square London N16 8AZ;X-APPLE-RADIUS=500;X-TITLE=11 Gillett Square:geo:-0.0764992,51.5487082
ATTACH;FMTTYPE=image/jpeg:https://www.vortexjazz.co.uk/wp-content/uploads/2014/06/Winston-McAnuff-and-Fixi-009.jpg
END:VEVENT
END:VCALENDAR