BEGIN:VCALENDAR
VERSION:2.0
PRODID:-//Vortex Jazz Club - ECPv4.1.3//NONSGML v1.0//EN
CALSCALE:GREGORIAN
METHOD:PUBLISH
X-WR-CALNAME:Vortex Jazz Club
X-ORIGINAL-URL:https://www.vortexjazz.co.uk
X-WR-CALDESC:Events for Vortex Jazz Club
BEGIN:VEVENT
DTSTART;TZID=UTC+0:20150504T200000
DTEND;TZID=UTC+0:20150504T230000
DTSTAMP:20260420T084810
CREATED:20150326T151716
LAST-MODIFIED:20150326T151716
UID:4305-1430769600-1430780400@www.vortexjazz.co.uk
SUMMARY:Rachel Musson\, Mark Sanders\, Corey Mwamba\, Neil Charles
DESCRIPTION:A superb quartet of great empathising improvisers. Rachel and Mark have also made the album Tatterdemalion together. Corey is one of the most committed vibes players you could ever wish to meet\, Neil Charles an established bandleader with a bewildering array of credits.
URL:https://www.vortexjazz.co.uk/event/rachel-musson-mark-sanders-corey-mwamba/
LOCATION:11 Gillett Square\, London\, N16 8AZ
GEO:51.5487082;-0.0764992
X-APPLE-STRUCTURED-LOCATION;VALUE=URI;X-ADDRESS=11 Gillett Square London N16 8AZ;X-APPLE-RADIUS=500;X-TITLE=11 Gillett Square:geo:-0.0764992,51.5487082
ATTACH;FMTTYPE=image/jpeg:https://www.vortexjazz.co.uk/wp-content/uploads/2014/07/rachel-jp.jpg
END:VEVENT
END:VCALENDAR