BEGIN:VCALENDAR
VERSION:2.0
PRODID:-//Vortex Jazz Club - ECPv4.1.3//NONSGML v1.0//EN
CALSCALE:GREGORIAN
METHOD:PUBLISH
X-WR-CALNAME:Vortex Jazz Club
X-ORIGINAL-URL:https://www.vortexjazz.co.uk
X-WR-CALDESC:Events for Vortex Jazz Club
BEGIN:VEVENT
DTSTART;TZID=UTC+0:20150508T200000
DTEND;TZID=UTC+0:20150508T230000
DTSTAMP:20260420T111707
CREATED:20150317T160637
LAST-MODIFIED:20150317T160637
UID:4227-1431115200-1431126000@www.vortexjazz.co.uk
SUMMARY:Sarah Moule
DESCRIPTION:'If being in touch with the heritage of jazz music is an essential ingredient\, then Sarah Moule’s set drips with authenticity' (YorkshireCoastGigs.com on Scarborough Jazz Festival 2014).  Singer Sarah Moule and her band play music that has genuine roots in the jazz tradition.  The set features earthy blues and sensual reworkings of classic songs together with new songs from acclaimed songwriters Simon Wallace and the late Fran Landesman that has been described by critics on both sides of the Atlantic as belonging to the latest chapter of the Great American Songbook.  Her new CD\, 'Songs From The Floating World'\, (Sept. 2014) garnered  ★★★★★  in The Observer on its release and was warmly praised in the jazz press.  The band\, which has been together since 2002\, features Nina Simone's drummer of two decades Paul Robinson\, ECM bassist Mick Hutton and pianist and composer Simon Wallace.\n\n'Massive talent and perfect technique – as a solo artist Sarah Moule stands in the very top flight of UK singers‘\nBrian Blain\, LondonJazz.com\n\n‘Superb interpretations\, wildly romantic – Moule really finds the soul of her instrument on this outstanding collection’\n★★★★  Peter Quinn\, Jazzwise October 2014\n\n‘Classic\, late-night club jazz…evocative of the floating world of ambiguity and decadence the songs conjure up. A classy and intelligent set.’ ★★★★ Jazz Journal November 2014\n\n'A first rate set.'\nClive Davis\, The Sunday Times Magazine 14/9/14\n 
URL:https://www.vortexjazz.co.uk/event/sarah-moule-2/
LOCATION:11 Gillett Square\, London\, N16 8AZ
GEO:51.5487082;-0.0764992
X-APPLE-STRUCTURED-LOCATION;VALUE=URI;X-ADDRESS=11 Gillett Square London N16 8AZ;X-APPLE-RADIUS=500;X-TITLE=11 Gillett Square:geo:-0.0764992,51.5487082
ATTACH;FMTTYPE=image/jpeg:https://www.vortexjazz.co.uk/wp-content/uploads/2015/03/Sarah-Moule-shoulder.jpg
END:VEVENT
END:VCALENDAR