BEGIN:VCALENDAR
VERSION:2.0
PRODID:-//Vortex Jazz Club - ECPv4.1.3//NONSGML v1.0//EN
CALSCALE:GREGORIAN
METHOD:PUBLISH
X-WR-CALNAME:Vortex Jazz Club
X-ORIGINAL-URL:https://www.vortexjazz.co.uk
X-WR-CALDESC:Events for Vortex Jazz Club
BEGIN:VEVENT
DTSTART;TZID=UTC+0:20150522T200000
DTEND;TZID=UTC+0:20150522T230000
DTSTAMP:20260420T084721
CREATED:20150423T124519
LAST-MODIFIED:20150423T124519
UID:4527-1432324800-1432335600@www.vortexjazz.co.uk
SUMMARY:Christine Tobin
DESCRIPTION:\nCHRISTINE TOBIN - It Might As Well Be Spring\nwith Phil Robson guitar\, Dave Whitford double bass & a surprise special guest.\n \nThe Irish-born vocalist and songwriter is renowned for her unique\, rich voice and original compositional style. With ten highly-acclaimed solo albums and four major awards under her belt\, Christine is treasured in the UK and beyond as one of the leading lights on the contemporary scene. Her authentic and expressive sound was described by The Guardian as “Tobin’s 24 carat voice”. She won 'Jazz Vocalist of the Year' at the 2014 'Parliamentary Jazz Awards'."....Christine Tobin really transcends glib genre-fication. Her expressive range acknowledges finely acquired folk\, jazz and 20th-century classical influences\, which already sets her apart. And everything is shot through with an unmistakable refinement\, free-spirited earthiness and giddy romanticism\, this singer-songwriter is in a field of one." MOJO ****\n\n\n\n
URL:https://www.vortexjazz.co.uk/event/christine-tobin-2/
LOCATION:11 Gillett Square\, London\, N16 8AZ
GEO:51.5487082;-0.0764992
X-APPLE-STRUCTURED-LOCATION;VALUE=URI;X-ADDRESS=11 Gillett Square London N16 8AZ;X-APPLE-RADIUS=500;X-TITLE=11 Gillett Square:geo:-0.0764992,51.5487082
ATTACH;FMTTYPE=image/jpeg:https://www.vortexjazz.co.uk/wp-content/uploads/2014/10/Christine-by-Brian-O-Connor-1.jpg
END:VEVENT
END:VCALENDAR