BEGIN:VCALENDAR
VERSION:2.0
PRODID:-//Vortex Jazz Club - ECPv4.1.3//NONSGML v1.0//EN
CALSCALE:GREGORIAN
METHOD:PUBLISH
X-WR-CALNAME:Vortex Jazz Club
X-ORIGINAL-URL:https://www.vortexjazz.co.uk
X-WR-CALDESC:Events for Vortex Jazz Club
BEGIN:VEVENT
DTSTART;TZID=UTC+0:20150605T200000
DTEND;TZID=UTC+0:20150605T230000
DTSTAMP:20260421T083256
CREATED:20140925T170533
LAST-MODIFIED:20140925T170533
UID:4604-1433534400-1433545200@www.vortexjazz.co.uk
SUMMARY:Huw Warren - Trio Brasil with Mark Lockheart + David Six (support)
DESCRIPTION:\n\n\nAward winning eclectic pianist celebrates his lifelong love of Brazilian music in all its diversity with this new groove heavy ensemble featuring longtime collaborators and Perfect Houseplants Mark Lockheart and Dudley Phillips.\nMusic by Heremeto Pascoal\, Guinga\, Tom Jobim\, Egberto Gismonti\, Pixinguinha and more.\n\n\nMark Lockheart- Saxophone\nHuw Warren - Piano\n\n\nDudley Phillips - Bass\n\n\nZoot Warren - Drums\n\n“A European stylist of the highest order” BBC Music Magazine\n\n'I first heard the Music of Hermeto more than 25 years ago and fell in love with it instantly. It has continued to fascinate and entrance me ever since\, and a small part of the spirit of Hermeto has permeated all my work to date.  I hope that this recording is a celebration\, tribute and a musical “thank you” for all this and more.' (Huw Warren)\n\nDavid Six:\n\n\nWith a particular interest in composing his own music\, an innovative approach to improvisation and through creative interpretations of classical pieces\, Vienna & Berlin-based pianist David Six has been developing an adventurous performance practice. With a noticeably unique sound on the piano\, he performs contemporary\, jazz and classical music as a soloist and with numerous ensembles and orchestras.\n\nHis musical collaborators include classical soloists as well as outstanding jazz and pop musicians from all over the globe: Mira Lu Kovacs\, Stargaze Orchestra\, Nora Fisher\, Bill Frisell\, Terry Riley\, Daníel Böðvarsson\, David Six’ Matador\, Matthias Ruppnig\,  Laura Winkler’s Wabi Sabi Orchestra\,…\n\ndavidsix.com\n\n\n\n\n"David Six’ solo piano - In The Rosewood Forrest is a release that has drawn large audiences. The release clearly brings Six to the foreground not only as a pianist but also as a composer. Recommended!" ( Musik an sich )\n\n\n"The depth that David Six explores and uncovers in his piano music is highly impressive. Sitting across from comments of virtuosity\, design and background\, the source of ‘real’ music is conveyed." (Christoph Cech)\n David Six proves himself an expert in creating extensive spaces that lend every single note\, every melody and every sound experiment a depth of validity\, whilst retaining an essential distance from intellectual art. (Michael Ternai - Music in Austria)\n\n
URL:https://www.vortexjazz.co.uk/event/huw-warren-trio-brasil-2/
LOCATION:11 Gillett Square\, London\, N16 8AZ
GEO:51.5487082;-0.0764992
X-APPLE-STRUCTURED-LOCATION;VALUE=URI;X-ADDRESS=11 Gillett Square London N16 8AZ;X-APPLE-RADIUS=500;X-TITLE=11 Gillett Square:geo:-0.0764992,51.5487082
ATTACH;FMTTYPE=image/jpeg:https://www.vortexjazz.co.uk/wp-content/uploads/2014/09/Huw-Warren.jpg
END:VEVENT
END:VCALENDAR