BEGIN:VCALENDAR
VERSION:2.0
PRODID:-//Vortex Jazz Club - ECPv4.1.3//NONSGML v1.0//EN
CALSCALE:GREGORIAN
METHOD:PUBLISH
X-WR-CALNAME:Vortex Jazz Club
X-ORIGINAL-URL:https://www.vortexjazz.co.uk
X-WR-CALDESC:Events for Vortex Jazz Club
BEGIN:VEVENT
DTSTART;TZID=UTC+0:20150718T200000
DTEND;TZID=UTC+0:20150718T230000
DTSTAMP:20260419T183213
CREATED:20150521T162750
LAST-MODIFIED:20150521T162750
UID:4715-1437249600-1437260400@www.vortexjazz.co.uk
SUMMARY:Anita Wardell + guests
DESCRIPTION:" Winner of the “Best Jazz Vocalist Category” in the 2013 British Jazz Awards\, Wardell is noted for her vocal improvisations and vocalese lyrics to instrumental solos.\n\nAnita will be joined by some special guests including Emily Aldrich\, a talented guitarist-singer and some surprise guests all the way from the US!!!!"\n\nAnita Wardell vocals\n\nRobin Aspland piano\nJeremy Brown bass\nSteve Brown drums
URL:https://www.vortexjazz.co.uk/event/anita-wardell-guests/
LOCATION:11 Gillett Square\, London\, N16 8AZ
GEO:51.5487082;-0.0764992
X-APPLE-STRUCTURED-LOCATION;VALUE=URI;X-ADDRESS=11 Gillett Square London N16 8AZ;X-APPLE-RADIUS=500;X-TITLE=11 Gillett Square:geo:-0.0764992,51.5487082
ATTACH;FMTTYPE=image/jpeg:https://www.vortexjazz.co.uk/wp-content/uploads/2014/08/Anita-Wardell.jpg
END:VEVENT
END:VCALENDAR