BEGIN:VCALENDAR
VERSION:2.0
PRODID:-//Vortex Jazz Club - ECPv4.1.3//NONSGML v1.0//EN
CALSCALE:GREGORIAN
METHOD:PUBLISH
X-WR-CALNAME:Vortex Jazz Club
X-ORIGINAL-URL:https://www.vortexjazz.co.uk
X-WR-CALDESC:Events for Vortex Jazz Club
BEGIN:VEVENT
DTSTART;TZID=UTC+0:20150729T200000
DTEND;TZID=UTC+0:20150729T230000
DTSTAMP:20260419T202329
CREATED:20150610T104311
LAST-MODIFIED:20150610T104311
UID:4896-1438200000-1438210800@www.vortexjazz.co.uk
SUMMARY:Kamao Quartet
DESCRIPTION:The Kamao Quartet take their inspiration from the legacy of the great Django Reinhardt and traditional Manouche and Romani music. Fronted by singer and guitarist Jean de Talhouet\, the band includes clarinet (Dave Shulman)\, gypsy guitars (Harry Sankey)\, and double bass (Ruth Goller)\, creating a beautiful sound that complements the vocals with haunting and lyrical harmonies. Lively and full of soul - a night of beautiful music.\n 
URL:https://www.vortexjazz.co.uk/event/kamao-quartet/
LOCATION:11 Gillett Square\, London\, N16 8AZ
GEO:51.5487082;-0.0764992
X-APPLE-STRUCTURED-LOCATION;VALUE=URI;X-ADDRESS=11 Gillett Square London N16 8AZ;X-APPLE-RADIUS=500;X-TITLE=11 Gillett Square:geo:-0.0764992,51.5487082
ATTACH;FMTTYPE=image/jpeg:https://www.vortexjazz.co.uk/wp-content/uploads/2014/09/Gypsy-Oct1.jpg
END:VEVENT
END:VCALENDAR