BEGIN:VCALENDAR
VERSION:2.0
PRODID:-//Vortex Jazz Club - ECPv4.1.3//NONSGML v1.0//EN
CALSCALE:GREGORIAN
METHOD:PUBLISH
X-WR-CALNAME:Vortex Jazz Club
X-ORIGINAL-URL:https://www.vortexjazz.co.uk
X-WR-CALDESC:Events for Vortex Jazz Club
BEGIN:VEVENT
DTSTART;TZID=UTC+0:20150903T100000
DTEND;TZID=UTC+0:20150903T110000
DTSTAMP:20260421T100253
CREATED:20150902T120147
LAST-MODIFIED:20150902T120147
UID:5569-1441274400-1441278000@www.vortexjazz.co.uk
SUMMARY:Tots Tunes
DESCRIPTION:The very popular music sessions for parents and little ones (0-5 yr olds).  Described as "uplifting and energising" and "such a fun\, high quality experience".   These interactive\, energetic sessions involve learning songs from around the world and original tunes and combining them with a bit of a workout!   Tots Tunes is a chance for local hackney parents to have a bit of fun\, listen to and sing some quality ‘non baby’ acoustic music.\n\nExpect to hear new tunes\, revamped tunes\, folk tunes.\n\n \n\nAll sessions are accompanied by cello and djembe.\n\nThursdays 10am and 11am  £6 (all classes drop-in so no need to book)\n\n 
URL:https://www.vortexjazz.co.uk/event/tots-tunes-10/2015-09-03/
LOCATION:11 Gillett Square\, London\, N16 8AZ
GEO:51.5487082;-0.0764992
X-APPLE-STRUCTURED-LOCATION;VALUE=URI;X-ADDRESS=11 Gillett Square London N16 8AZ;X-APPLE-RADIUS=500;X-TITLE=11 Gillett Square:geo:-0.0764992,51.5487082
ATTACH;FMTTYPE=image/jpeg:https://www.vortexjazz.co.uk/wp-content/uploads/2014/07/Sounds_Creative_Projects_logos_RGB-05-492x304.jpg
END:VEVENT
BEGIN:VEVENT
DTSTART;TZID=UTC+0:20150903T200000
DTEND;TZID=UTC+0:20150903T230000
DTSTAMP:20260421T100253
CREATED:20150805T151931
LAST-MODIFIED:20150805T151931
UID:5409-1441310400-1441321200@www.vortexjazz.co.uk
SUMMARY:Michael Janisch's Paradigm Shift; Tom Cawley's Curios + Iain Ballamy
DESCRIPTION:A special BBC recording for Jazz on 3 and Jazz Line-Up\n\nTom Cawley's Curios with special guest IAIN BALLAMY\n\nA return by a great trio which has been 'quiet' for too long. They recorded last year at Realworld Studios and this is be one of the first opportunities to experience this live.\n\n“A fine trio\, entitled to its big reputation” - John Fordham\, The Guardian.\n\nTom Cawley (piano)\, Sam Burgess (bass)\, Joshua Blackmore (drums)\, Iain Ballamy (saxophone)\n\n \n\nMichael Janisch's Paradigm Shift - European Album Launch tour\n\nJanisch hit the international scene running with his 2010 debut Purpose Built that positioned him as one of the premier bassists/bandleaders of his generation. Bass Musician Magazine stated “Janisch is one of the few bass players out there who plays both electric and upright with equal facility\, passion and musicality” while Jazz TImes Magazine called it "the complete package". After an intense touring schedule of the album's music he released two subsequent co-led projects with Aruan Ortiz (ft Greg Osby) & Lee Konitz to worldwide acclaim.\n\nAs a composer and bassist Michael Janisch has been known for his distinct virtuosity and a penchant for thematic material\, attention to groove and a reverence for his past musical experiences. On Paradigm Shift Janisch deepens his own vision as an artist by expanding his compositional palette\, propelling his music into new sonic terrain conceptually\, harmonically\, and rhythmically. A series of everyday (but nonetheless life changing) events have informed the music\, including the birth of his two daughters and the sudden death of his brother Joseph.\n\n"It's been much more organic on a composition level to just allow these new experiences to guide the writing process."\n\nMoreover\, Janisch has increasingly became involved at the grass roots level in activism against corporate plutocracy\, large-scale globalization\, religious fanaticism\, global warming & GMO products\, as well as ongoing war and state-sponsored aggression. "My first solo album was a presentation of what I had experienced on a musical level up to the point of release. With Paradigm Shift I've had so many extra-musical events occur it was life that informed and inspired this new music. It's been much more organic on a composition level to just allow these new experiences to guide the writing process. I've not written music and subsequently grafted some personal\, social or political cause on top of it; rather it was the emotions I've experienced that guided me to generate the sounds\, colors and rhythms that eventually led to the music on the record. It's all been a much more holistic and fulfilling writing process."\n\nMichael Janisch - double & electric basses;  Jason Yarde - soprano saxophone;  Paul Booth - tenor saxophone;  Alex Bonney - electronics/trumpet;  Cédric Hanriot- piano/keys/synths;  ​Colin Stranahan - drums\n“Michael Janisch is a commanding bassist\, who brings a sinewy thrust to the ensemble with masterful agility.”\nDownbeat Magazine“Janisch seizes the instrument with a blend of speed and energy as if he wants to be melody\, harmony and rhythm all at once.”\nThe Telegraph“A bassist everyone with ears seems to want.”\nThe Buffalo News“Janisch leads his quintet on a rip-roaring ride\, doling out heavy grooves\, tasty walking lines and melody by the bucketful. Like all good bassists\, he knows when to sit back and let the lead instruments have their spot.”\nBass Guitar Magazine“Janisch is one of the few bass players out there who plays both electric and upright with equal facility\, passion and musicality.”\nBass Musician MagazineBIOGRPAHICAL INFO:American bassist\, composer\, producer and record label owner Michael Janisch is one of the preeminent artists of his generation working in jazz and experimental musics.  This September he releases his second solo recording Paradigm Shift and debuts his new sextet of the same name.  Paradigm Shift is a double disc album featuring new original material (including disc one that is solely comprised of the 'Paradigm Shift Suite') composed by the leader with some choice originals by his bandmates.  The music was initially recorded live by his acoustic quintet after a two-week European tour and was subsequently taken into the studio for post production augmentation by Janisch and electronics wizard Alex Bonney.  Janisch's new band Paradigm Shift will include Bonney on the live shows thus pairing the acoustic quintet with real-time electronic manipulation\, presenting an engaging sonic program of music that mixes contemporary jazz\, electronica\, funk\, rock\, punk and free improv alongside anthemic themes\, otherworldly sounds and infectious grooves.\n\nThe rest of the band features some of the most sought after\, versatile and experienced musicians of their generation in soprano saxophonist Jason Yarde (Sam Rivers\, Hermeto Pascoal\, Jazz Warriors)\, tenor saxophonist Paul Booth (Steve Winwood\, Steely Dan\, Eric Clapton)\, Grammy-award winning pianist Cédric Hanriot (Dianna Reeves\, John Patitucci) and Coln Stranahan (​drummer)​\n\nJanisch hit the international scene running with his 2010 debut Purpose Built that positioned him as one of the premier bassists/bandleaders of his generation. Bass Musician Magazine stated “Janisch is one of the few bass players out there who plays both electric and upright with equal facility\, passion and musicality” while Jazz TImes Magazine called it "the complete package". After an intense touring schedule of the album's music he released two subsequent co-led projects with Aruan Ortiz (ft Greg Osby) & Lee Konitz to worldwide acclaim.\n\nAs a composer and bassist Michael Janisch has been known for his distinct virtuosity and a penchant for thematic material\, attention to groove and a reverence for his past musical experiences. On Paradigm Shift Janisch deepens his own vision as an artist by expanding his compositional palette\, propelling his music into new sonic terrain conceptually\, harmonically\, and rhythmically. A series of everyday (but nonetheless life changing) events have informed the music\, including the birth of his two daughters and the sudden death of his brother Joseph.\n\n"It's been much more organic on a composition level to just allow these new experiences to guide the writing process."\n\nMoreover\, Janisch has increasingly became involved at the grass roots level in activism against corporate plutocracy\, large-scale globalization\, religious fanaticism\, global warming & GMO products\, as well as ongoing war and state-sponsored aggression. "My first solo album was a presentation of what I had experienced on a musical level up to the point of release. With Paradigm Shift I've had so many extra-musical events occur it was life that informed and inspired this new music. It's been much more organic on a composition level to just allow these new experiences to guide the writing process. I've not written music and subsequently grafted some personal\, social or political cause on top of it; rather it was the emotions I've experienced that guided me to generate the sounds\, colors and rhythms that eventually led to the music on the record. It's all been a much more holistic and fulfilling writing process."\n\n\n 
URL:https://www.vortexjazz.co.uk/event/michael-janischs-paradigm-shift-tom-cawleys-curios/
LOCATION:11 Gillett Square\, London\, N16 8AZ
GEO:51.5487082;-0.0764992
X-APPLE-STRUCTURED-LOCATION;VALUE=URI;X-ADDRESS=11 Gillett Square London N16 8AZ;X-APPLE-RADIUS=500;X-TITLE=11 Gillett Square:geo:-0.0764992,51.5487082
ATTACH;FMTTYPE=image/jpeg:https://www.vortexjazz.co.uk/wp-content/uploads/2015/08/Michael-Janisch.jpg
END:VEVENT
END:VCALENDAR