BEGIN:VCALENDAR
VERSION:2.0
PRODID:-//Vortex Jazz Club - ECPv4.1.3//NONSGML v1.0//EN
CALSCALE:GREGORIAN
METHOD:PUBLISH
X-WR-CALNAME:Vortex Jazz Club
X-ORIGINAL-URL:https://www.vortexjazz.co.uk
X-WR-CALDESC:Events for Vortex Jazz Club
BEGIN:VEVENT
DTSTART;TZID=UTC+0:20151013T200000
DTEND;TZID=UTC+0:20151013T230000
DTSTAMP:20260424T053407
CREATED:20150316T171922
LAST-MODIFIED:20150316T171922
UID:4216-1444766400-1444777200@www.vortexjazz.co.uk
SUMMARY:More Meetings With Remarkable Saxophonists- Eddie Prevost meets Nat Catchpole
DESCRIPTION:Eddie Prevost\, doyen of drummers\, founder of AMM and improviser par excellence\, returns with another series of meetings with remarkable saxophonists. Tonight: Nat Catchpole\, John Edwards\, Eddie Prevost (to coincide with a new album release on Matchless Records)
URL:https://www.vortexjazz.co.uk/event/more-meetings-with-remarkable-saxophonists-eddie-prevost-meets-nat-catchpole/
LOCATION:11 Gillett Square\, London\, N16 8AZ
GEO:51.5487082;-0.0764992
X-APPLE-STRUCTURED-LOCATION;VALUE=URI;X-ADDRESS=11 Gillett Square London N16 8AZ;X-APPLE-RADIUS=500;X-TITLE=11 Gillett Square:geo:-0.0764992,51.5487082
ATTACH;FMTTYPE=image/jpeg:https://www.vortexjazz.co.uk/wp-content/uploads/2014/04/Prevost-colour-EPT-116-x.jpg
END:VEVENT
END:VCALENDAR