BEGIN:VCALENDAR
VERSION:2.0
PRODID:-//Vortex Jazz Club - ECPv4.1.3//NONSGML v1.0//EN
CALSCALE:GREGORIAN
METHOD:PUBLISH
X-WR-CALNAME:Vortex Jazz Club
X-ORIGINAL-URL:https://www.vortexjazz.co.uk
X-WR-CALDESC:Events for Vortex Jazz Club
BEGIN:VEVENT
DTSTART;TZID=UTC+0:20151017T200000
DTEND;TZID=UTC+0:20151017T235500
DTSTAMP:20260421T112345
CREATED:20150731T133138
LAST-MODIFIED:20150731T133138
UID:5346-1445112000-1445126100@www.vortexjazz.co.uk
SUMMARY:Match and Fuse Festival 2015
DESCRIPTION:Strobes / Alarmist / The Great Harry Hillman / Kaja Draksler / Magnus Loom (Downstairs) / Soccer 96\n \nTickets £15 for wristbanded access to The Vortex/Cafe Oto/Servant Jazz Quarters\nor VERY LIMITED early bird for £10\n \nhttps://www.wegottickets.com/f/9112\n\n\nPowered by musician DIY\, Match&Fuse are igniting progressive music with pan-European festivals\, this year in Warsaw\, Toulouse and London. The Vortex hosts a night of the 4th annual London festival with an extra-ordinary line up of composers and bands who compel and challenge. Dissolving barriers between genres and countries\, it's a rare chance to hear a spectrum of sounds from the European and UK underground.\n\nThe event features the electronic freedom and beat possibilities of Strobes\, a group formed of the contemporary UK innovators Dan Nicholls\, Matt Calvert and Dave Smith. Match&Fuse are also keen to present an instrumental band making a name in their home town of Dublin. Alarmist are a four-piece who are far greater than their sum of parts with two drum kits\, two keyboards\, guitar and electric bass. As 12 Points Festival noted\, they are\, 'gravitationally pulled toward a rock aesthetic but constantly implying other philosophies in a way that excites.'\n\nFrom Switzerland comes The Great Harry Hillman\, a young foursome of sax\, drums\, electric guitar and bass who elegantly craft jazz-shaped instrumentals\, whilst bringing some proper energy to improvisation. On a different tack is the solo pianist\, Kaja Draksler\, from Slovenia who will indulge in unique musings that use all parts of the piano. Thoughtful and captivating Kaja is making a name for her unique style. This will be her first performance in London\n\nThere are no words to describe Magnus Loom\, except his own: 'Professional noisy man enjoys...highly processed vignettes of domestic existence'. This man with voice and keyboards will be lighting up the Vortex Downstairs with his 'Gilded Bumf'. Finally Soccer 96 will bring 'Tron-like landscapes' with synths and drums for a live\, post-club experience to complete the party in the early hours.\n\nThis is part of a wristband event which allows entry to performances at the Vortex\, Cafe Oto\, the Cafe Oto Project Space and Servant Jazz Quarters. There will be a procession from each venue ending in a 'supergroup' of all the bands aka the Eirik Tofte Match&Fuse Orchestra\, playing in Gillett Square at midnight. \nFull details of Match&Fuse London 2015 at www.matchandfuse.com
URL:https://www.vortexjazz.co.uk/event/match-and-fuse-festival-2015/
LOCATION:11 Gillett Square\, London\, N16 8AZ
GEO:51.5487082;-0.0764992
X-APPLE-STRUCTURED-LOCATION;VALUE=URI;X-ADDRESS=11 Gillett Square London N16 8AZ;X-APPLE-RADIUS=500;X-TITLE=11 Gillett Square:geo:-0.0764992,51.5487082
ATTACH;FMTTYPE=image/jpeg:https://www.vortexjazz.co.uk/wp-content/uploads/2015/07/Match_Fuse_London_2015.jpg
END:VEVENT
BEGIN:VEVENT
DTSTART;TZID=UTC+0:20151017T200000
DTEND;TZID=UTC+0:20151018T010000
DTSTAMP:20260421T112345
CREATED:20150909T165210
LAST-MODIFIED:20150909T165210
UID:5642-1445112000-1445130000@www.vortexjazz.co.uk
SUMMARY:Match and Fuse
DESCRIPTION:20.00 Kaja Draksler (Slovenia) a riveting solo pianist\, on a rocket.\n21.00 The Great Harry Hillman (CH) heads-up for detailed arrangements mixing with hectic improv\n22.00 Magnus Loom (UK) @downstairs a cornucopia of brightly burning pitches and rhythms\, howling and whispering\n22.30 Alarmist (IE) genre-bending fusion of the melodic and the experimental\n23.15 Strobes (UK) big beats and a vast array of sonic possibilities\n0.00 Eirik Tofte Match&Fuse Orchestra\n\n0.15 all 3 Eirik Tofte Match&Fuse Orchestras gather in Gillett Square\n0.30 Soccer 96 (UK) PARTY upstairs VORTEX - stripped-down\, amped-up analogue synth vs live drum assault
URL:https://www.vortexjazz.co.uk/event/match-and-fuse-2/
LOCATION:11 Gillett Square\, London\, N16 8AZ
GEO:51.5487082;-0.0764992
X-APPLE-STRUCTURED-LOCATION;VALUE=URI;X-ADDRESS=11 Gillett Square London N16 8AZ;X-APPLE-RADIUS=500;X-TITLE=11 Gillett Square:geo:-0.0764992,51.5487082
ATTACH;FMTTYPE=image/jpeg:https://www.vortexjazz.co.uk/wp-content/uploads/2015/07/Match_Fuse_London_2015.jpg
END:VEVENT
END:VCALENDAR