BEGIN:VCALENDAR
VERSION:2.0
PRODID:-//Vortex Jazz Club - ECPv4.1.3//NONSGML v1.0//EN
CALSCALE:GREGORIAN
METHOD:PUBLISH
X-WR-CALNAME:Vortex Jazz Club
X-ORIGINAL-URL:https://www.vortexjazz.co.uk
X-WR-CALDESC:Events for Vortex Jazz Club
BEGIN:VEVENT
DTSTART;TZID=UTC+0:20151018T140000
DTEND;TZID=UTC+0:20151018T170000
DTSTAMP:20260421T104539
CREATED:20150303T083127
LAST-MODIFIED:20150303T083127
UID:4111-1445176800-1445187600@www.vortexjazz.co.uk
SUMMARY:Mopomoso
DESCRIPTION:The longest-standing regular series of improvised music continues with an international double bill of musicians from Argentina\, Germany\,\n\nSweden and UK.
URL:https://www.vortexjazz.co.uk/event/mopomoso-18/
LOCATION:11 Gillett Square\, London\, N16 8AZ
GEO:51.5487082;-0.0764992
X-APPLE-STRUCTURED-LOCATION;VALUE=URI;X-ADDRESS=11 Gillett Square London N16 8AZ;X-APPLE-RADIUS=500;X-TITLE=11 Gillett Square:geo:-0.0764992,51.5487082
ATTACH;FMTTYPE=image/jpeg:https://www.vortexjazz.co.uk/wp-content/uploads/2014/08/mopomoso-logo-clean-jpeg.jpg
END:VEVENT
BEGIN:VEVENT
DTSTART;TZID=UTC+0:20151018T193000
DTEND;TZID=UTC+0:20151018T220000
DTSTAMP:20260421T104539
CREATED:20150906T174545
LAST-MODIFIED:20150906T174545
UID:5614-1445196600-1445205600@www.vortexjazz.co.uk
SUMMARY:The music of Pete Saberton with Stuart Hall / Paul Clarvis and others...
DESCRIPTION:Pete Saberton (1950-2011) was a one-off. And incredibly influential as a teacher\, a founder of the London Jazz Orchestra and hooked into the Loose Tubes generation. Tonight we focus on some of his music\, all too rarely played. With Alcyona Mick\, Pete Hurt\, Stuart Hall\, Paul Clarvis and others.\n\nRead an interview with Pete Saberton by Martin Speake:https://www.martinspeake.com/#!pete-saberton/c14f9
URL:https://www.vortexjazz.co.uk/event/the-music-of-pete-saberton/
ATTACH;FMTTYPE=image/jpeg:https://www.vortexjazz.co.uk/wp-content/uploads/2015/09/Pete-Saberton-008-1.jpg
END:VEVENT
BEGIN:VEVENT
DTSTART;TZID=UTC+0:20151018T200000
DTEND;TZID=UTC+0:20151019T003000
DTSTAMP:20260421T104539
CREATED:20150817T151940
LAST-MODIFIED:20150817T151940
UID:8292-1445198400-1445214600@www.vortexjazz.co.uk
SUMMARY:Vortex Downstairs Sunday Sessions
DESCRIPTION:The London Jazz Jam session is hosted every Sunday in the Vortex Downstairs Bar by guitarist Hannes Riepler and features his house band which varies from time to time.
URL:https://www.vortexjazz.co.uk/event/vortex-downstairs-sunday-sessions-2/2015-10-18/
LOCATION:11 Gillett Square\, London\, N16 8AZ
GEO:51.5487082;-0.0764992
X-APPLE-STRUCTURED-LOCATION;VALUE=URI;X-ADDRESS=11 Gillett Square London N16 8AZ;X-APPLE-RADIUS=500;X-TITLE=11 Gillett Square:geo:-0.0764992,51.5487082
ATTACH;FMTTYPE=image/jpeg:https://www.vortexjazz.co.uk/wp-content/uploads/2013/11/Hannes-Riepler-3.jpg
END:VEVENT
END:VCALENDAR