BEGIN:VCALENDAR
VERSION:2.0
PRODID:-//Vortex Jazz Club - ECPv4.1.3//NONSGML v1.0//EN
CALSCALE:GREGORIAN
METHOD:PUBLISH
X-WR-CALNAME:Vortex Jazz Club
X-ORIGINAL-URL:https://www.vortexjazz.co.uk
X-WR-CALDESC:Events for Vortex Jazz Club
BEGIN:VEVENT
DTSTART;TZID=UTC+0:20151021T200000
DTEND;TZID=UTC+0:20151021T230000
DTSTAMP:20260421T095312
CREATED:20150916T170005
LAST-MODIFIED:20150916T170005
UID:5685-1445457600-1445468400@www.vortexjazz.co.uk
SUMMARY:Huw Williams' Hon - Album launch
DESCRIPTION:
URL:https://www.vortexjazz.co.uk/event/huw-williams-hon-album-launch/
LOCATION:11 Gillett Square\, London\, N16 8AZ
GEO:51.5487082;-0.0764992
X-APPLE-STRUCTURED-LOCATION;VALUE=URI;X-ADDRESS=11 Gillett Square London N16 8AZ;X-APPLE-RADIUS=500;X-TITLE=11 Gillett Square:geo:-0.0764992,51.5487082
ATTACH;FMTTYPE=image/jpeg:https://www.vortexjazz.co.uk/wp-content/uploads/2015/09/hon-54ee4458969cc.jpg
END:VEVENT
END:VCALENDAR