BEGIN:VCALENDAR
VERSION:2.0
PRODID:-//Vortex Jazz Club - ECPv4.1.3//NONSGML v1.0//EN
CALSCALE:GREGORIAN
METHOD:PUBLISH
X-WR-CALNAME:Vortex Jazz Club
X-ORIGINAL-URL:https://www.vortexjazz.co.uk
X-WR-CALDESC:Events for Vortex Jazz Club
BEGIN:VEVENT
DTSTART;TZID=UTC+0:20151026T200000
DTEND;TZID=UTC+0:20151026T230000
DTSTAMP:20260421T083258
CREATED:20151012T185925
LAST-MODIFIED:20151012T185925
UID:5911-1445889600-1445900400@www.vortexjazz.co.uk
SUMMARY:Masayoshi Fujita
DESCRIPTION:Masayoshi Fujita is a Japanese vibraphonist and composer based in Berlin. Masayoshi first learned how to play the drums\, followed by extensive vibraphone training to craft and play his own compositions.\n\n\nDetermined not to stick to traditional vibraphone styles or techniques and theory of composition\, he seeks his own sound of vibraphone\, preparing his instrument with strings of bead\, strips of foil and similar objects. The resulting new sounds\, akin to distortions\, help to expand the vibraphone spectrum without eroding the instrument’s intrinsic character or even abandoning it altogether. Newly signed to Erased Tapes Records\, latest release ‘Apologues’ has been met with critical acclaim.\n\n“A pristine dream magic seems to inform Apologues — the fluid serenity of the music projects a lulling\, murmured unreality that suggests that the album is a figment of the listener’s imagination even while it is in play.” – Pitchfork\nhttps://www.masayoshifujita.com\n\n \n\n
URL:https://www.vortexjazz.co.uk/event/masayoshi-fujitas-please/
LOCATION:11 Gillett Square\, London\, N16 8AZ
GEO:51.5487082;-0.0764992
X-APPLE-STRUCTURED-LOCATION;VALUE=URI;X-ADDRESS=11 Gillett Square London N16 8AZ;X-APPLE-RADIUS=500;X-TITLE=11 Gillett Square:geo:-0.0764992,51.5487082
ATTACH;FMTTYPE=image/jpeg:https://www.vortexjazz.co.uk/wp-content/uploads/2015/10/fujita.jpg
END:VEVENT
END:VCALENDAR