BEGIN:VCALENDAR
VERSION:2.0
PRODID:-//Vortex Jazz Club - ECPv4.1.3//NONSGML v1.0//EN
CALSCALE:GREGORIAN
METHOD:PUBLISH
X-WR-CALNAME:Vortex Jazz Club
X-ORIGINAL-URL:https://www.vortexjazz.co.uk
X-WR-CALDESC:Events for Vortex Jazz Club
BEGIN:VEVENT
DTSTART;TZID=UTC+0:20151101T193000
DTEND;TZID=UTC+0:20151101T230000
DTSTAMP:20260421T103034
CREATED:20151009T134251
LAST-MODIFIED:20151009T134251
UID:5881-1446406200-1446418800@www.vortexjazz.co.uk
SUMMARY:Lume presents... Tom Taylor/Rob Luft and Cath Roberts/Seth Bennett/Andrew Lisle
DESCRIPTION:For our November Vortex gig\, we welcome a duo and a trio to the stage\, for a night of improvised music.\n\nCath Roberts/Seth Bennett/Andrew Lisle\n\nThe first meeting of a new improvising trio. Andrew Lisle is known for being one of the drummers in heavyweight Leeds anarcho-sextet Shatner’s Bassoon\, and as a prolific improviser working with a multitude of musicians on the free scene: Colin Webster\, Alex Ward\, Daniel Thompson\, Tom Wheatley and more. Seth Bennett leads his own ensembles Nut Club and En Bas Quartet\, as well as being involved in many other projects across musical styles including Fragments Trio\, Metamorphic and The Horse Loom. Seth and Cath play together as a duo\, as well as in Word of Moth and Cath’s quintet Sloth Racket. Cath also leads Quadraceratops\, a septet\, and has a duo with guitarist Anton Hunter\, Ripsaw Catfish.\n\nCath Roberts baritone saxophone\n\nSeth Bennett bass\n\nAndrew Lisle drums\n\n \n\nTom Taylor/Rob Luft\n\nThis duo featuring Tom Taylor and Rob Luft is a recent collaboration borne out of a mutual love of improvised music. The music draws attention to the many common features of the two instruments\, and mixes high-intensity improvisation with more tender and reflective textures.\n\nTom Taylor piano\n\nRob Luft guitar
URL:https://www.vortexjazz.co.uk/event/lume-presents-tom-taylorrob-luft-and-cath-robertsseth-bennettandrew-lisle/
LOCATION:11 Gillett Square\, London\, N16 8AZ
GEO:51.5487082;-0.0764992
X-APPLE-STRUCTURED-LOCATION;VALUE=URI;X-ADDRESS=11 Gillett Square London N16 8AZ;X-APPLE-RADIUS=500;X-TITLE=11 Gillett Square:geo:-0.0764992,51.5487082
ATTACH;FMTTYPE=image/jpeg:https://www.vortexjazz.co.uk/wp-content/uploads/2015/10/sethcathlisle.jpg
END:VEVENT
BEGIN:VEVENT
DTSTART;TZID=UTC+0:20151101T200000
DTEND;TZID=UTC+0:20151102T003000
DTSTAMP:20260421T103034
CREATED:20150817T151940
LAST-MODIFIED:20150817T151940
UID:8294-1446408000-1446424200@www.vortexjazz.co.uk
SUMMARY:Vortex Downstairs Sunday Sessions
DESCRIPTION:The London Jazz Jam session is hosted every Sunday in the Vortex Downstairs Bar by guitarist Hannes Riepler and features his house band which varies from time to time.
URL:https://www.vortexjazz.co.uk/event/vortex-downstairs-sunday-sessions-2/2015-11-01/
LOCATION:11 Gillett Square\, London\, N16 8AZ
GEO:51.5487082;-0.0764992
X-APPLE-STRUCTURED-LOCATION;VALUE=URI;X-ADDRESS=11 Gillett Square London N16 8AZ;X-APPLE-RADIUS=500;X-TITLE=11 Gillett Square:geo:-0.0764992,51.5487082
ATTACH;FMTTYPE=image/jpeg:https://www.vortexjazz.co.uk/wp-content/uploads/2013/11/Hannes-Riepler-3.jpg
END:VEVENT
END:VCALENDAR