BEGIN:VCALENDAR
VERSION:2.0
PRODID:-//Vortex Jazz Club - ECPv4.1.3//NONSGML v1.0//EN
CALSCALE:GREGORIAN
METHOD:PUBLISH
X-WR-CALNAME:Vortex Jazz Club
X-ORIGINAL-URL:https://www.vortexjazz.co.uk
X-WR-CALDESC:Events for Vortex Jazz Club
BEGIN:VEVENT
DTSTART;TZID=UTC+0:20151105T100000
DTEND;TZID=UTC+0:20151105T110000
DTSTAMP:20260421T115814
CREATED:20150902T120147
LAST-MODIFIED:20150902T120147
UID:8258-1446717600-1446721200@www.vortexjazz.co.uk
SUMMARY:Tots Tunes
DESCRIPTION:The very popular music sessions for parents and little ones (0-5 yr olds).  Described as "uplifting and energising" and "such a fun\, high quality experience".   These interactive\, energetic sessions involve learning songs from around the world and original tunes and combining them with a bit of a workout!   Tots Tunes is a chance for local hackney parents to have a bit of fun\, listen to and sing some quality ‘non baby’ acoustic music.\n\nExpect to hear new tunes\, revamped tunes\, folk tunes.\n\n \n\nAll sessions are accompanied by cello and djembe.\n\nThursdays 10am and 11am  £6 (all classes drop-in so no need to book)\n\n 
URL:https://www.vortexjazz.co.uk/event/tots-tunes-10/2015-11-05/
LOCATION:11 Gillett Square\, London\, N16 8AZ
GEO:51.5487082;-0.0764992
X-APPLE-STRUCTURED-LOCATION;VALUE=URI;X-ADDRESS=11 Gillett Square London N16 8AZ;X-APPLE-RADIUS=500;X-TITLE=11 Gillett Square:geo:-0.0764992,51.5487082
ATTACH;FMTTYPE=image/jpeg:https://www.vortexjazz.co.uk/wp-content/uploads/2014/07/Sounds_Creative_Projects_logos_RGB-05-492x304.jpg
END:VEVENT
BEGIN:VEVENT
DTSTART;TZID=UTC+0:20151105T200000
DTEND;TZID=UTC+0:20151105T230000
DTSTAMP:20260421T115814
CREATED:20151007T160806
LAST-MODIFIED:20151007T160806
UID:5857-1446753600-1446764400@www.vortexjazz.co.uk
SUMMARY:Louis Moholo-Moholo's Free Organisation
DESCRIPTION:Louis Moholo-Moholo – drums\,  \n\nRachel Musson – saxes\,  \n\nPat Thomas – piano\, \n\nNick Stephens – bass.\n\n Welcome return of the legendary South African drummer\, this time with a new quartet.  We’ve become accustomed to seeing Louis play in long-established groupings on his visits\, but this overlooks the vast array of players he worked with while living in London.  Sit and chat with him and in no time you’re getting a list of musicians he wants to play with again.  This will be closely followed by his asking if there are any new players you think he’d enjoy playing with.  This line-up was put together during one of these conversations.  It reunites Louis with two past collaborators: Pat Thomas – a brilliantly individualistic pianist who is (at last) receiving some acclaim; and Nick Stephens - a bassist\, best known to older hands as the lynchpin of several of John Stevens’ bands\, whom Louis works with regularly in Scandinavia in Frode Gjerstad’s groups.  The “new” element in the line-up is Rachel Musson – a saxophonist who was the obvious choice as she’s been astonishing everyone for the last two or three years.  If you haven’t caught her yet\, now’s the time to do it!\n\nThis promises to be superb.  The choice is simple – either you want to stand round a bonfire in the cold and wet\, or you come to us for sonic fireworks.  Unless you’ve got kids (a grudging concession) it’s a no-brainer!
URL:https://www.vortexjazz.co.uk/event/louis-moholo-moholos-free-organisation-2/
LOCATION:11 Gillett Square\, London\, N16 8AZ
GEO:51.5487082;-0.0764992
X-APPLE-STRUCTURED-LOCATION;VALUE=URI;X-ADDRESS=11 Gillett Square London N16 8AZ;X-APPLE-RADIUS=500;X-TITLE=11 Gillett Square:geo:-0.0764992,51.5487082
ATTACH;FMTTYPE=image/jpeg:https://www.vortexjazz.co.uk/wp-content/uploads/2015/01/louis-moholo-moholo.jpg
END:VEVENT
END:VCALENDAR