BEGIN:VCALENDAR
VERSION:2.0
PRODID:-//Vortex Jazz Club - ECPv4.1.3//NONSGML v1.0//EN
CALSCALE:GREGORIAN
METHOD:PUBLISH
X-WR-CALNAME:Vortex Jazz Club
X-ORIGINAL-URL:https://www.vortexjazz.co.uk
X-WR-CALDESC:Events for Vortex Jazz Club
BEGIN:VEVENT
DTSTART;TZID=UTC+0:20151126T100000
DTEND;TZID=UTC+0:20151126T110000
DTSTAMP:20260421T115615
CREATED:20150902T120147
LAST-MODIFIED:20150902T120147
UID:8261-1448532000-1448535600@www.vortexjazz.co.uk
SUMMARY:Tots Tunes
DESCRIPTION:The very popular music sessions for parents and little ones (0-5 yr olds).  Described as "uplifting and energising" and "such a fun\, high quality experience".   These interactive\, energetic sessions involve learning songs from around the world and original tunes and combining them with a bit of a workout!   Tots Tunes is a chance for local hackney parents to have a bit of fun\, listen to and sing some quality ‘non baby’ acoustic music.\n\nExpect to hear new tunes\, revamped tunes\, folk tunes.\n\n \n\nAll sessions are accompanied by cello and djembe.\n\nThursdays 10am and 11am  £6 (all classes drop-in so no need to book)\n\n 
URL:https://www.vortexjazz.co.uk/event/tots-tunes-10/2015-11-26/
LOCATION:11 Gillett Square\, London\, N16 8AZ
GEO:51.5487082;-0.0764992
X-APPLE-STRUCTURED-LOCATION;VALUE=URI;X-ADDRESS=11 Gillett Square London N16 8AZ;X-APPLE-RADIUS=500;X-TITLE=11 Gillett Square:geo:-0.0764992,51.5487082
ATTACH;FMTTYPE=image/jpeg:https://www.vortexjazz.co.uk/wp-content/uploads/2014/07/Sounds_Creative_Projects_logos_RGB-05-492x304.jpg
END:VEVENT
BEGIN:VEVENT
DTSTART;TZID=UTC+0:20151126T200000
DTEND;TZID=UTC+0:20151126T230000
DTSTAMP:20260421T115615
CREATED:20151012T180128
LAST-MODIFIED:20151012T180128
UID:5903-1448568000-1448578800@www.vortexjazz.co.uk
SUMMARY:London Klezmer Quartet
DESCRIPTION:We are delighted to welcome back the London Klezmer Quartet.These 4 extraordinary musicians delve into the celebratory and soulful Jewish music of eastern Europe\, bringing you the subtleties of the original tradition\, combined with a kick-the-chairs-over ability to party. Bringing fresh life to an almost-lost folk tradition\, LKQ’s old and new melodies on violin\, clarinet\, accordion and double bass\, and colourful stories about musicians' lives and times take you on a journey from the Baltic to the Black Sea - and beyond. Their three CDs capture the spirit of eastern European life\, including songs with themes ranging from food and love to conscription and exile.  LKQ has performed around the UK at a wide variety of venues and festivals\, including Kings Place and the South Bank\, and recently completed a fourth tour in Australia. The 2015 schedule includes festivals in Switzerland\, Germany and the UK (Lichfield\, Cambridge Big Weekend\, KlezFest London)\, and a winter tour of their most recent album\, London Klezmer Quartet Calling. Media appearances have included live sessions for BBC Radio 3 & 6\, ABC Australia national and local radio\, and Latvian national television.\n\n\n\n\n\n\n\n\n\n\n\n\n\n\n\n\n\n\n\n\n\n\n\n\n\n\n\n\nhttps://www.youtube.com/watch?v=7C_paX7RAks\n\n\n\n"Exuberant yet cultured playing... no shortage of dynamism here... The tradition is safe in their hands." (Sunday Times)\n\n\n\n\n\n\n\n\n\n\n\n\n\n\n\n\n\n\n\n\n\n\n\n\n\n\n\n\n\n
URL:https://www.vortexjazz.co.uk/event/london-klezmer-quartet/
LOCATION:11 Gillett Square\, London\, N16 8AZ
GEO:51.5487082;-0.0764992
X-APPLE-STRUCTURED-LOCATION;VALUE=URI;X-ADDRESS=11 Gillett Square London N16 8AZ;X-APPLE-RADIUS=500;X-TITLE=11 Gillett Square:geo:-0.0764992,51.5487082
ATTACH;FMTTYPE=image/jpeg:https://www.vortexjazz.co.uk/wp-content/uploads/2015/10/LKQ7.jpg
END:VEVENT
END:VCALENDAR