BEGIN:VCALENDAR
VERSION:2.0
PRODID:-//Vortex Jazz Club - ECPv4.1.3//NONSGML v1.0//EN
CALSCALE:GREGORIAN
METHOD:PUBLISH
X-WR-CALNAME:Vortex Jazz Club
X-ORIGINAL-URL:https://www.vortexjazz.co.uk
X-WR-CALDESC:Events for Vortex Jazz Club
BEGIN:VEVENT
DTSTART;TZID=UTC+0:20160225T100000
DTEND;TZID=UTC+0:20160225T110000
DTSTAMP:20260420T114440
CREATED:20160422T095956
LAST-MODIFIED:20160422T095956
UID:8276-1456394400-1456398000@www.vortexjazz.co.uk
SUMMARY:Tots Tunes
DESCRIPTION:The very popular music sessions for parents and little ones (0-5 yr olds).  Described as "uplifting and energising" and "such a fun\, high quality experience".   These interactive\, energetic sessions involve learning songs from around the world and original tunes and combining them with a bit of a workout!   Tots Tunes is a chance for local hackney parents to have a bit of fun\, listen to and sing some quality ‘non baby’ acoustic music.\n\nExpect to hear new tunes\, revamped tunes\, folk tunes.\n\n \n\nAll sessions are accompanied by cello and djembe.\n\nThursdays 10am and 11am  £6 (all classes drop-in so no need to book)\n\n 
URL:https://www.vortexjazz.co.uk/event/tots-tunes-11/2016-02-25/
LOCATION:11 Gillett Square\, London\, N16 8AZ
GEO:51.5487082;-0.0764992
X-APPLE-STRUCTURED-LOCATION;VALUE=URI;X-ADDRESS=11 Gillett Square London N16 8AZ;X-APPLE-RADIUS=500;X-TITLE=11 Gillett Square:geo:-0.0764992,51.5487082
ATTACH;FMTTYPE=image/jpeg:https://www.vortexjazz.co.uk/wp-content/uploads/2014/07/Sounds_Creative_Projects_logos_RGB-05-492x304.jpg
END:VEVENT
BEGIN:VEVENT
DTSTART;TZID=UTC+0:20160225T200000
DTEND;TZID=UTC+0:20160225T230000
DTSTAMP:20260420T114440
CREATED:20150113T112559
LAST-MODIFIED:20150113T112559
UID:6320-1456430400-1456441200@www.vortexjazz.co.uk
SUMMARY:James Allsopp Quartet
DESCRIPTION:Album launch!\n\nJames Allsopp writes:\n\n'Thanks to my Dad’s love of Jazz music I grew up in a house filled with the sound of classic Jazz. This quartet reflects my love of Jazz standards and compositions by my favourite composers such as Duke Ellington\, John Coltrane\, Thelonious Monk and Charlie Parker (to name a few). We have not tried to reinvent these pieces but play them simply and allow for the maximum amount of interplay between all the instruments. Hopefully the result is that you hear us all having fun!'\n\nJames Allsopp: Tenor Saxophone\nRoss Stanley: Piano\nRiaan Vosloo: Double Bass\nTim Giles: Drums
URL:https://www.vortexjazz.co.uk/event/james-allsopp-quartet-2/
LOCATION:11 Gillett Square\, London\, N16 8AZ
GEO:51.5487082;-0.0764992
X-APPLE-STRUCTURED-LOCATION;VALUE=URI;X-ADDRESS=11 Gillett Square London N16 8AZ;X-APPLE-RADIUS=500;X-TITLE=11 Gillett Square:geo:-0.0764992,51.5487082
ATTACH;FMTTYPE=image/jpeg:https://www.vortexjazz.co.uk/wp-content/uploads/2015/01/Allsopp.jpg
END:VEVENT
END:VCALENDAR