BEGIN:VCALENDAR
VERSION:2.0
PRODID:-//Vortex Jazz Club - ECPv4.1.3//NONSGML v1.0//EN
CALSCALE:GREGORIAN
METHOD:PUBLISH
X-WR-CALNAME:Vortex Jazz Club
X-ORIGINAL-URL:https://www.vortexjazz.co.uk
X-WR-CALDESC:Events for Vortex Jazz Club
BEGIN:VEVENT
DTSTART;TZID=UTC+0:20160229T200000
DTEND;TZID=UTC+0:20160229T230000
DTSTAMP:20260420T115802
CREATED:20160127T170307
LAST-MODIFIED:20160127T170307
UID:6909-1456776000-1456786800@www.vortexjazz.co.uk
SUMMARY:Joyful Noise present: Niran Obasa & Ben Audu: Encounter
DESCRIPTION:This duo concert sees two brilliant Nigerian creative musicians pianist NIRAN OBASA and saxophonist BEN AUDU come together for the first time. These two renowned band leaders explore the new approach to African jazz where African rhythms drive jazz solos that are underpinned by Afrobeat grooves. A unique musical meeting between two creative minds.
URL:https://www.vortexjazz.co.uk/event/joyful-noise-present-niran-obasa-ben-audu-encounter/
LOCATION:11 Gillett Square\, London\, N16 8AZ
GEO:51.5487082;-0.0764992
X-APPLE-STRUCTURED-LOCATION;VALUE=URI;X-ADDRESS=11 Gillett Square London N16 8AZ;X-APPLE-RADIUS=500;X-TITLE=11 Gillett Square:geo:-0.0764992,51.5487082
ATTACH;FMTTYPE=image/jpeg:https://www.vortexjazz.co.uk/wp-content/uploads/2016/01/150723_niran_obasa_web.jpg
END:VEVENT
END:VCALENDAR