BEGIN:VCALENDAR
VERSION:2.0
PRODID:-//Vortex Jazz Club - ECPv4.1.3//NONSGML v1.0//EN
CALSCALE:GREGORIAN
METHOD:PUBLISH
X-WR-CALNAME:Vortex Jazz Club
X-ORIGINAL-URL:https://www.vortexjazz.co.uk
X-WR-CALDESC:Events for Vortex Jazz Club
BEGIN:VEVENT
DTSTART;TZID=UTC+0:20160320T140000
DTEND;TZID=UTC+0:20160320T170000
DTSTAMP:20260420T084646
CREATED:20160219T155635
LAST-MODIFIED:20160219T155635
UID:7212-1458482400-1458493200@www.vortexjazz.co.uk
SUMMARY:MOPOMOSO: CORRINGHAM | MARSHALL + INCLUSION PRINCIPAL + SERGI SORRENTINO + ALLATSON | RUSSELL
DESCRIPTION:Now in its 25th anniversary year and continuing to operate the UK’s longest running series dedicated to improvised music. This month has a bill of excellent musicians highlighting some of the many approaches and styles to be found in this uniquely engaging music.\n\nCORRINGHAM | MARSHALL\nViv Corringham - voice\nHannah Marshall - cello\nTwo remarkable musicians with an insatiable appetite for playing and a seemingly endless supply of inventiveness. Players with a generous spirit and unafraid to take chances they are two Mopomoso favourites! A delight to have them here again\, this time in their Mopomoso debut as a duo.\nhttps://www.vivcorringham.org/\nhttps://www.hannahmarshall.net/\n\nINCLUSION PRINCIPAL\nMartin Archer - electronic keyboards / laptop\, saxophones\, clarinets\, recorders\nHervé Perez - laptop\, saxophones\nPeter Fairclough - drums and percussion\nA well established Sheffield based trio\, Inclusion Principle inhabit a space between electronics\, nu-jazz\, contemporary electroacoustic music and free improvisation. Tendencies towards a minimalist approach can on occasion lead to more ‘full on’ electronic beats. Soundscapes with attitude!\nhttps://www.efi.group.shef.ac.uk/marcher.html\nhttps://sndsukinspook.wordpress.com/\nhttps://www.jazzcds.co.uk/artist_id_60/biography_id_60\n\nSERGI SORRENTINO\nSergi Sorrentino - Guitar\nAfter receiving the Academic Guitar Diploma at the Novara Conservatory in 2010\, with a thesis on Italian avant-garde guitar music\, Sorrentino has become “one of the most important contemporary Italian guitarists” (RAI Radio Tre). As a performer he promotes the classical and electric guitars’ contemporary repertory in both composed and improvised musics. Here on a short visit\, so a rare chance to experience this fine musician playing live.\nhttps://www.sergiosorrentinoguitarist.com/\n\n\nALLATSON | RUSSELL\nLee Allatson - drums\nJohn Russell - guitar\nWhilst drummer Lee Allatson has worked across a wide range a musical genres with musicians such as a.o\, Prince Buster\, Laurel Aitken\, Desmond Decker\, Paul Dunmall\, Han Earl Park\, Showaddywaddy\, Bill Drummond of KLF\, David Thomas and the South Leicestershire Improvisors Ensemble\, it is the freer end of things that ‘provide a level of connection with my instrument\, music and other musicians I can find nowhere else’. Joined by leading UK guitarist John Russell this is a first encounter.\nhttps://www.dyehousedrumworks.com/wordpress/lee/\nhttps://www.john-russell.co.uk
URL:https://www.vortexjazz.co.uk/event/mopomoso-20/
LOCATION:11 Gillett Square\, London\, N16 8AZ
GEO:51.5487082;-0.0764992
X-APPLE-STRUCTURED-LOCATION;VALUE=URI;X-ADDRESS=11 Gillett Square London N16 8AZ;X-APPLE-RADIUS=500;X-TITLE=11 Gillett Square:geo:-0.0764992,51.5487082
ATTACH;FMTTYPE=image/jpeg:https://www.vortexjazz.co.uk/wp-content/uploads/2016/02/JOHN-RUSSELL.jpg
END:VEVENT
BEGIN:VEVENT
DTSTART;TZID=UTC+0:20160320T193000
DTEND;TZID=UTC+0:20160320T230000
DTSTAMP:20260420T084646
CREATED:20160118T193348
LAST-MODIFIED:20160118T193348
UID:6798-1458502200-1458514800@www.vortexjazz.co.uk
SUMMARY:FESTIVAL OF THE BETWEEN: DAY TWO
DESCRIPTION:Taking place over two days at one of London’s most loved music venues\, Vortex Jazz Club\, the festival will bring you seasoned headliners and new fresh acts\, all making exceptional music by bringing together the best of Middle Eastern and European musical ideas.\n\nThe music of the East and the jazz of the West is connected by the primacy of improvisation. In the dialogue between these styles of music\, improvisation is taken to new heights as the rhythmic and melodic complexity of the East meets the harmonic mastery of Western jazz.\n\nThe Festival of the Between is the world's first music festival focussed on showcasing these collaborations.\n\nALULA - a London-based septet featuring British-Iraqi singer and composer Alya Marquardt and leading jazz and world musicians Asaf Sirkis (drums)\, Shirley Smart (cello)\, George Crowley (tenor sax)\, Olie Brice (bass)\, Sam Leak (piano) and Nikos Ziarkis (oud / guitar). Their music has been described as "sensational" and Alya's first album received a 4-star review from Songlines magazine. They bring together original music and Iraqi and Arabic folk music into a highly improvised jazz frame to create a thrilling and multi-layered performance.\n\nAlya Marquardt - voice\nAsaf Sirkis - drums\nGeorge Crowley - tenor saxophone\nNikos Ziarkas - oud\nShirley Smart - cello\nOlie Brice - bass\nSam Leak - piano\n\nDON KIPPER - The new kids on the block performing exceptional klezmer / klezmer-inspired jazz. Don Kipper are a multi award-winning innovative ensemble playing and transforming a wide range of traditional musical forms\, from Turkish Fasıl and Greek Rebetiko to Romani music and Klezmer. While they attempt to root ourselves deeply in these traditions they always seek to explore radical interpretations and taut arrangements full of complex harmonies\, polyrhythms and imaginative improvisation. Since 2013\, they have released our First and Second albums\, played two European Tours\, and won the titles of both the inaugural Moshe Beregovski Award for best Klezmer Newcomers and The World Music Network’s Battle of the Bands.\n\nAndrew Gorman - violin\, voice\nDaniel Gouly - clarinet\, voice\nDunja Botic - voice\nTimmy Doyle - drums and percussion\nJamie Benzies - double bass\nTim Karp - guitar\nJosh Middleton - accordion\n\nWith the support of Arts Council England
URL:https://www.vortexjazz.co.uk/event/festival-of-the-between/
LOCATION:11 Gillett Square\, London\, N16 8AZ
GEO:51.5487082;-0.0764992
X-APPLE-STRUCTURED-LOCATION;VALUE=URI;X-ADDRESS=11 Gillett Square London N16 8AZ;X-APPLE-RADIUS=500;X-TITLE=11 Gillett Square:geo:-0.0764992,51.5487082
ATTACH;FMTTYPE=image/jpeg:https://www.vortexjazz.co.uk/wp-content/uploads/2016/01/ALYA.jpg
END:VEVENT
BEGIN:VEVENT
DTSTART;TZID=UTC+0:20160313T200000
DTEND;TZID=UTC+0:20160313T200000
DTSTAMP:20260420T084646
CREATED:20160217T172513
LAST-MODIFIED:20160217T172513
UID:7196-1457899200-1457899200@www.vortexjazz.co.uk
SUMMARY:DOWNSTAIRS: SUNDAY SESSIONS
DESCRIPTION:The London Jazz Jam session is hosted every Sunday in the Vortex Downstairs Bar by guitarist Hannes Riepler and features his house band which varies from time to time. Followed by some of the best musicians in London playing together.
URL:https://www.vortexjazz.co.uk/event/vortex-downstairs-sunday-sessions-2-4-2/2016-03-13/
LOCATION:11 Gillett Square\, London\, N16 8AZ
GEO:51.5487082;-0.0764992
X-APPLE-STRUCTURED-LOCATION;VALUE=URI;X-ADDRESS=11 Gillett Square London N16 8AZ;X-APPLE-RADIUS=500;X-TITLE=11 Gillett Square:geo:-0.0764992,51.5487082
ATTACH;FMTTYPE=image/jpeg:https://www.vortexjazz.co.uk/wp-content/uploads/2013/11/Hannes-Riepler-3.jpg
END:VEVENT
END:VCALENDAR