BEGIN:VCALENDAR
VERSION:2.0
PRODID:-//Vortex Jazz Club - ECPv4.1.3//NONSGML v1.0//EN
CALSCALE:GREGORIAN
METHOD:PUBLISH
X-WR-CALNAME:Vortex Jazz Club
X-ORIGINAL-URL:https://www.vortexjazz.co.uk
X-WR-CALDESC:Events for Vortex Jazz Club
BEGIN:VEVENT
DTSTART;TZID=UTC+0:20160614T200000
DTEND;TZID=UTC+0:20160614T230000
DTSTAMP:20260421T185034
CREATED:20160323T202228
LAST-MODIFIED:20160323T202228
UID:7526-1465934400-1465945200@www.vortexjazz.co.uk
SUMMARY:LISA ULLÉN | MARK SANDERS | JOHN EDWARDS
DESCRIPTION:Lisa and Mark were brought together by Okkyung Lee for her curation at Wels Festival 2014 and decided they should play again\, Mark and John are first call rhythm section to many world class musicians recently including Wadada Leo Smith and Roscoe Mitchell.\n\nBesides working as a soloist and leader of her own groups\, Lisa has collaborated extensively with many well-known Swedish artists and dancers\, and has also scored several dramatic productions and performed and recorded music by contemporary composers. She works deep into the combination of prepared piano with conventional technique.
URL:https://www.vortexjazz.co.uk/event/lisa-ullen-mark-sanders-john-edwards/
LOCATION:11 Gillett Square\, London\, N16 8AZ
GEO:51.5487082;-0.0764992
X-APPLE-STRUCTURED-LOCATION;VALUE=URI;X-ADDRESS=11 Gillett Square London N16 8AZ;X-APPLE-RADIUS=500;X-TITLE=11 Gillett Square:geo:-0.0764992,51.5487082
ATTACH;FMTTYPE=image/jpeg:https://www.vortexjazz.co.uk/wp-content/uploads/2016/03/lisa-ullen.jpg
END:VEVENT
END:VCALENDAR