BEGIN:VCALENDAR
VERSION:2.0
PRODID:-//Vortex Jazz Club - ECPv4.1.3//NONSGML v1.0//EN
CALSCALE:GREGORIAN
METHOD:PUBLISH
X-WR-CALNAME:Vortex Jazz Club
X-ORIGINAL-URL:https://www.vortexjazz.co.uk
X-WR-CALDESC:Events for Vortex Jazz Club
BEGIN:VEVENT
DTSTART;TZID=UTC+0:20160627T200000
DTEND;TZID=UTC+0:20160627T230000
DTSTAMP:20260421T203530
CREATED:20160422T101355
LAST-MODIFIED:20160422T101355
UID:7788-1467057600-1467068400@www.vortexjazz.co.uk
SUMMARY:MICHAEL CHILLINGWORTH - 'SCRATCH & SIFT' (Album Launch)
DESCRIPTION:Michael Chillingworth: Alto Sax/Clarinet\nJosh Arcoleo: Tenor Sax\nTom Challenger: Tenor Sax/Clarinet\nGeorge Crowley: Bass Clarinet\nRalph Wyld: Vibraphone\nSam Lasserson: Bass\nJon Scott: Drums\n\nMichael Chillingworth leads a vibrant ensemble\, launching his latest release\, Scratch & Sift\, on Two Rivers Records
URL:https://www.vortexjazz.co.uk/event/michael-chillingworth-album-launch/
LOCATION:11 Gillett Square\, London\, N16 8AZ
GEO:51.5487082;-0.0764992
X-APPLE-STRUCTURED-LOCATION;VALUE=URI;X-ADDRESS=11 Gillett Square London N16 8AZ;X-APPLE-RADIUS=500;X-TITLE=11 Gillett Square:geo:-0.0764992,51.5487082
ATTACH;FMTTYPE=image/jpeg:https://www.vortexjazz.co.uk/wp-content/uploads/2016/04/full-band.jpg
END:VEVENT
END:VCALENDAR