BEGIN:VCALENDAR
VERSION:2.0
PRODID:-//Vortex Jazz Club - ECPv4.1.3//NONSGML v1.0//EN
CALSCALE:GREGORIAN
METHOD:PUBLISH
X-WR-CALNAME:Vortex Jazz Club
X-ORIGINAL-URL:https://www.vortexjazz.co.uk
X-WR-CALDESC:Events for Vortex Jazz Club
BEGIN:VEVENT
DTSTART;TZID=UTC+0:20161009T143000
DTEND;TZID=UTC+0:20161009T173000
DTSTAMP:20260421T114022
CREATED:20160923T110137
LAST-MODIFIED:20160923T110441
UID:12351-1476023400-1476034200@www.vortexjazz.co.uk
SUMMARY:Jazz Orchestra Summit: London Jazz Orchestra + Guildhall Jazz Band
DESCRIPTION:An unmissable Jazz Orchestra event: the  London Jazz Orchestra and the Guildhall Jazz Band on one October afternoon.\n\nThis month\, as part of London's longest jazz residency\,  the LJO\,  “as fine a band as you can find anywhere” (Independent) is joined by one of Europe's finest student  jazz orchestras for a feast of modern big band music.\n\nDirected by Scott Stroman\, expect to hear fine playing\, composing and arranging by two top-class bands. Don't miss it.
URL:https://www.vortexjazz.co.uk/event/london-jazz-orchestra-24/
LOCATION:11 Gillett Square\, London\, N16 8AZ
GEO:51.5487082;-0.0764992
X-APPLE-STRUCTURED-LOCATION;VALUE=URI;X-ADDRESS=11 Gillett Square London N16 8AZ;X-APPLE-RADIUS=500;X-TITLE=11 Gillett Square:geo:-0.0764992,51.5487082
ATTACH;FMTTYPE=image/jpeg:https://www.vortexjazz.co.uk/wp-content/uploads/2016/09/LJO-June-2015-1-375x250.jpg
END:VEVENT
BEGIN:VEVENT
DTSTART;TZID=UTC+0:20161009T180000
DTEND;TZID=UTC+0:20161009T200000
DTSTAMP:20260421T114022
CREATED:20160623T100025
LAST-MODIFIED:20160623T100025
UID:11580-1476036000-1476043200@www.vortexjazz.co.uk
SUMMARY:Downstairs: THELONIOUS
DESCRIPTION:Hans Koller (Valve Trombone\, Euphonium)\nMartin Speake (Alto Saxophone)\nCalum Gourlay (Bass)\nTBC (Drums)\n\nTaking inspiration from the Steve Lacy/Roswell Rudd School Days band from the early 1960s\, Thelonious explore the entire Monk repertoire with both childlike curiosity as well as forensic attention to detail.Through collective learning of Monk’s unique catalogue of 70 tunes from the complete original recordings in a slow process lasting several months of regular playing\, probing\, rehearsing\, reflecting\, memorising\, meditating\, internalising and improvising\, Thelonious arrive at flexible interpretations of the material that are as dangerous as anything in contemporary music\, as well as comforting\, groovy and dreamy.\n\nMartin has worked extensively with Monk alumnus Paul Motian (Check out Martin’s ECM recording with him\, Change of Heart)\, and Hans has played and recorded with the original Monk repertoire guru Steve Lacy (London Ear). Calum and David are two of the most melodic and cutting-edge rhythm players active on the London jazz scene today\, perfects partners in the exploration of Monk’s music.\n\nThelonious are delighted to be playing the Vortex downstairs Cafe every second Sunday in the month after the London Jazz Orchestra\, from 6pm to 8pm
URL:https://www.vortexjazz.co.uk/event/downstairs-thelonious-7/
LOCATION:11 Gillett Square\, London\, N16 8AZ
GEO:51.5487082;-0.0764992
X-APPLE-STRUCTURED-LOCATION;VALUE=URI;X-ADDRESS=11 Gillett Square London N16 8AZ;X-APPLE-RADIUS=500;X-TITLE=11 Gillett Square:geo:-0.0764992,51.5487082
ATTACH;FMTTYPE=image/jpeg:https://www.vortexjazz.co.uk/wp-content/uploads/2014/12/Thelonious.jpg
END:VEVENT
END:VCALENDAR