BEGIN:VCALENDAR
VERSION:2.0
PRODID:-//Vortex Jazz Club - ECPv4.1.3//NONSGML v1.0//EN
CALSCALE:GREGORIAN
METHOD:PUBLISH
X-WR-CALNAME:Vortex Jazz Club
X-ORIGINAL-URL:https://www.vortexjazz.co.uk
X-WR-CALDESC:Events for Vortex Jazz Club
BEGIN:VEVENT
DTSTART;TZID=UTC+0:20161022T200000
DTEND;TZID=UTC+0:20161022T230000
DTSTAMP:20260421T113838
CREATED:20160819T162902
LAST-MODIFIED:20161007T173947
UID:12118-1477166400-1477177200@www.vortexjazz.co.uk
SUMMARY:BLACK HISTORY MONTH: Cleveland Watkiss Trio
DESCRIPTION:Great singer launches a new project.\n\nSince the 1980s\, Cleveland has been known as one of the most dynamic and imaginative singers and producers. His use of multi-effects on his voice are mesmerising. And he makes the spine tingle when one hears his versions of Stevie Wonder or jazz standards. He is also one of the leading lights of our monthly Freedom sessions.\nThis new Italian based trio of: Piano/Electronics Antonio Figura: Voice/Electronics\nCleveland Watkiss: & Alto Sax Paolo Recchia\,brings together 3 mighty explorers of sound\,melody and electronica!\nnew compositions are shaped by cleveland’s ability to create spontaneous vocal beats and baselines\, setting off one of the most beautiful Alto sax sounds around today- young Paolo Recchia\, adding Antonio’s touch and deep sophistication\, the trio already sound like they’ve been performing together for a very long time.\nThis appearance at the vortex tonight\, will be their fourth gig together! not to be missed.\n\nThis event is supported by Hackney Roots.\n\nhttps://youtu.be/sHVc5puGgyk
URL:https://www.vortexjazz.co.uk/event/cleveland-watkiss-trio/
LOCATION:11 Gillett Square\, London\, N16 8AZ
GEO:51.5487082;-0.0764992
X-APPLE-STRUCTURED-LOCATION;VALUE=URI;X-ADDRESS=11 Gillett Square London N16 8AZ;X-APPLE-RADIUS=500;X-TITLE=11 Gillett Square:geo:-0.0764992,51.5487082
ATTACH;FMTTYPE=image/jpeg:https://www.vortexjazz.co.uk/wp-content/uploads/2016/01/CLEVELAND-WATKISS.jpg
END:VEVENT
END:VCALENDAR