BEGIN:VCALENDAR
VERSION:2.0
PRODID:-//Vortex Jazz Club - ECPv4.1.3//NONSGML v1.0//EN
CALSCALE:GREGORIAN
METHOD:PUBLISH
X-WR-CALNAME:Vortex Jazz Club
X-ORIGINAL-URL:https://www.vortexjazz.co.uk
X-WR-CALDESC:Events for Vortex Jazz Club
BEGIN:VEVENT
DTSTART;TZID=UTC+0:20161027T100000
DTEND;TZID=UTC+0:20161027T110000
DTSTAMP:20260421T113856
CREATED:20160502T140956
LAST-MODIFIED:20160729T191257
UID:8083-1477562400-1477566000@www.vortexjazz.co.uk
SUMMARY:Tots Tunes
DESCRIPTION:The very popular music sessions for parents and little ones (0-5 yr olds).  Described as "uplifting and energising" and "such a fun\, high quality experience".   These interactive\, energetic sessions involve learning songs from around the world and original tunes and combining them with a bit of a workout!   Tots Tunes is a chance for local hackney parents to have a bit of fun\, listen to and sing some quality ‘non baby’ acoustic music.\n\nExpect to hear new tunes\, revamped tunes\, folk tunes.\n\nAll sessions are accompanied by cello and djembe.\n\nThursdays\n\n10 am - 11 am\n\n11 am  - 12 pm\n\n£6 (all classes drop-in so no need to book)\n\nTots Tunes is a SoundsCreative neighbourhood projects led by cellist Tara Franks\n\nwww.facebook.com/totstuneswithtara\n\nsoundscreativeprojects.co.uk/neighbourhood-projects\n\n\n 
URL:https://www.vortexjazz.co.uk/event/tots-tunes-10-3-2/2016-10-27/
LOCATION:11 Gillett Square\, London\, N16 8AZ
GEO:51.5487082;-0.0764992
X-APPLE-STRUCTURED-LOCATION;VALUE=URI;X-ADDRESS=11 Gillett Square London N16 8AZ;X-APPLE-RADIUS=500;X-TITLE=11 Gillett Square:geo:-0.0764992,51.5487082
ATTACH;FMTTYPE=image/jpeg:https://www.vortexjazz.co.uk/wp-content/uploads/2014/07/Sounds_Creative_Projects_logos_RGB-05-492x304.jpg
END:VEVENT
BEGIN:VEVENT
DTSTART;TZID=UTC+0:20161027T200000
DTEND;TZID=UTC+0:20161027T230000
DTSTAMP:20260421T113856
CREATED:20160819T163330
LAST-MODIFIED:20161027T203958
UID:12120-1477598400-1477609200@www.vortexjazz.co.uk
SUMMARY:Blow The Fuse
DESCRIPTION:Blow the Fuse present the Laka D All Stars\n\nThis gig will draw on personal reworkings of a wide range of material from Marvin Gaye\, Billie Holiday and Chet Baker to original songs going back to the Guest Stars.\n\nFeaturing:\n\nLaka D singer\, piano player\, composer\, choir arranger and director whose soulful voice was featured with The Guest Stars and Emma Peel Fan Club.\n\nDeirdre Cartwright guitar\, Alison Rayner bass and Josefina Cupido congas and percussion are all well known as band leaders\, composers and players as well as being long time collaborators  with Laka D.\n\nAll the group were members of the women jazz and Latin group ‘The Guest Stars’\, in the 1980’s. They toured in 17 countries and released three albums.\n\n \n\nTickets: \n\n£10 advance\, £12 door\n\n 
URL:https://www.vortexjazz.co.uk/event/blow-the-fuse-3/
LOCATION:11 Gillett Square\, London\, N16 8AZ
GEO:51.5487082;-0.0764992
X-APPLE-STRUCTURED-LOCATION;VALUE=URI;X-ADDRESS=11 Gillett Square London N16 8AZ;X-APPLE-RADIUS=500;X-TITLE=11 Gillett Square:geo:-0.0764992,51.5487082
ATTACH;FMTTYPE=image/jpeg:https://www.vortexjazz.co.uk/wp-content/uploads/2016/08/LakaD-All-stars-BTF-sliderweb-2.jpg
END:VEVENT
BEGIN:VEVENT
DTSTART;TZID=UTC+0:20161027T201500
DTEND;TZID=UTC+0:20161027T220000
DTSTAMP:20260421T113856
CREATED:20161015T090141
LAST-MODIFIED:20161015T115340
UID:12454-1477599300-1477605600@www.vortexjazz.co.uk
SUMMARY:WORDS & JAZZ
DESCRIPTION:Every 4th Thursday of every month poet Nicki Heinen hosts Words & Jazz Downstairs  @ the Vortex Jazz Club expect a night of the very best spoken word and jazz. This is an 'outstanding monthly summit between contemporary poets and musicians' (The Independent) - come and taste literature\, music and a cocktail or two at the world famous Vortex bar!\n\n\n\nLine up:\n\nBrendan Cleary\n\nOriginally from Co. Antrim has published many collections from many presses including Bloodaxe and Tall-lighthouse.\n\nHis latest is 'Face' from Pighog Press. He lives & writes in Brighton\n\n'Some of  us stay home & write tame poems about wild things. Cleary gets out there & captures wild ones & brings them home alive' - Hugo Williams\n\nSimon Barraclough\n\nSimon Barraclough is a poet\, writer\, performer and editor whose debut collection 'Los Alamos Mon Amour' was a Forward Prize finalist in 2008. Since then he has published 'Neptune Blue' (2011) and 'Sunspots' (2015)\, the latter being a book-length meditation on the Sun and which also toured as a one-man show with music\, songs and original video. In 2010 he devised the multi-poet\, multimedia homage to Hitchcock\, 'Psycho Poetica'\, and worked with Isobel Dixon and Chris McCabe on the three-hander multimedia piece 'The Debris Field' in 2012. Throughout 2014 he was writer in residence at the Mullard Space Science Laboratory\, where he edited an anthology of poetry by scientists called 'Laboratorio'. He is currently working on prose and theatre projects as well as teaching and writing poetry.\n\nAnthony Howell\n\nAnthony Howell's first collection\, Inside the Castle\, came out in 1969. In 1973 he was invited to participate in the International Writers Program at The University of Iowa. In 1997 he was short-listed for a Paul Hamlyn Award. His versions of the poems of Statius were well received and those of Fawzi Karim were a Poetry Book Society Recommendation for 2011. He was the founder of The Theatre of Mistakes and editor of Grey Suit: Video for Art and Literature. His most recent book of poems is Silent Highway\, Anvil 2014.\n\nNancy Charley\n\nNancy Charley works as the Archivist at the Royal Asiatic Society - cool place for paintings\, manuscripts and papers about Asia. Her first full poetry collection will be out in February 2017 and she is greatly indebted to the fantastic Simon Barraclough for sweating over writing a back cover blurb for it!! She's often found telling her poems in London and the South-east and is currently working on her new one-woman show\, Water-Watcher\, which was premiered in September at Faversham Hop Festival Fringe.\n\nKristian Borring\n\nLondon based Danish guitarist/composer Kristian Borring has recently launched his third album as leader\, Silent Storm on Jellymould Jazz Records. His music has been described as\, “from hard swing to no nonsense grooves\, contemplative melodies to intricate musical interplay.” The guitarist brings his trio. “Clean\, cool\, precise and contemporary’ – The Scotsman… Borring's set of originals are engaging and their subtle rhythmic and harmonic twists add to the interest - Jazzwise\n\n \n\n \n\n 
URL:https://www.vortexjazz.co.uk/event/words-jazz-2/
LOCATION:11 Gillett Square\, London\, N16 8AZ
GEO:51.5487082;-0.0764992
X-APPLE-STRUCTURED-LOCATION;VALUE=URI;X-ADDRESS=11 Gillett Square London N16 8AZ;X-APPLE-RADIUS=500;X-TITLE=11 Gillett Square:geo:-0.0764992,51.5487082
ATTACH;FMTTYPE=image/jpeg:https://www.vortexjazz.co.uk/wp-content/uploads/2016/10/Simon-Barraclough.jpg
END:VEVENT
END:VCALENDAR