BEGIN:VCALENDAR
VERSION:2.0
PRODID:-//Vortex Jazz Club - ECPv4.1.3//NONSGML v1.0//EN
CALSCALE:GREGORIAN
METHOD:PUBLISH
X-WR-CALNAME:Vortex Jazz Club
X-ORIGINAL-URL:https://www.vortexjazz.co.uk
X-WR-CALDESC:Events for Vortex Jazz Club
BEGIN:VEVENT
DTSTART;TZID=UTC+0:20161105T150000
DTEND;TZID=UTC+0:20161105T173000
DTSTAMP:20260421T113910
CREATED:20161026T111007
LAST-MODIFIED:20161028T135554
UID:12498-1478358000-1478367000@www.vortexjazz.co.uk
SUMMARY:MOJO JAZZ ORCHESTRA
DESCRIPTION:The 16-piece Moderately Optimistic Jazz Orchestra brings a smouldering Guy Fawkes Night set to the Vortex (in the afternoon!). Jazz\, with added treason\, from Duke to Chick
URL:https://www.vortexjazz.co.uk/event/mojo-jazz-orchestra/
LOCATION:11 Gillett Square\, London\, N16 8AZ
GEO:51.5487082;-0.0764992
X-APPLE-STRUCTURED-LOCATION;VALUE=URI;X-ADDRESS=11 Gillett Square London N16 8AZ;X-APPLE-RADIUS=500;X-TITLE=11 Gillett Square:geo:-0.0764992,51.5487082
ATTACH;FMTTYPE=image/jpeg:https://www.vortexjazz.co.uk/wp-content/uploads/2016/10/MOJO.jpg
END:VEVENT
BEGIN:VEVENT
DTSTART;TZID=UTC+0:20161105T200000
DTEND;TZID=UTC+0:20161105T230000
DTSTAMP:20260421T113910
CREATED:20160801T111749
LAST-MODIFIED:20160824T194056
UID:11873-1478376000-1478386800@www.vortexjazz.co.uk
SUMMARY:Carol Grimes - Tales and Songs from a Life
DESCRIPTION:The return of the mistressful Carol Grimes\, one of our favourite vocalists\, with Dorian Ford\, piano\,  Winston Clifford\, drums\,  Alison Rayner\, bass  & Annie Whitehead\, trombone.\n\nStellar reviews abound of Carol's autobiographical song book which she brings back to us\, different each time\,  with her wonderful accompanists.\n'Carol Grimes needs longer than a Fringe slot to tell her life story. Heavens\, she needs more words than a Fringe review has to accommodate the names she’s gone under\, being as she candidly puts it “a bastard” London war baby who was put up for adoption\, brought up in Lowestoft\, wound up sleeping in Hastings’ caves\, busked in Soho\, joined a band\, married\, divorced\, married again\, and tied the pension authorities in knots trying to decipher who she really was.\n\nTo those whose lives Grimes’s singing has touched\, she’s one of the UK’s great underap-preciated talents and at seventy-one\, she hasn’t lost the power to enthral with a blues or a jazz standard or with the song that ended this lunchtime gem so aptly\, her friend\, the late Sandy Denny’s Who Knows Where the Time Goes.\n\nThe Singer’s Tale is by turns charming\, funny and a little sad without looking for pity. Grimes is a trouper\, a survivor and with Dorian Ford’s splendid piano accompaniment and occasional added harmonica\, she variously defies and takes encouragement from a sizable cast of alliteratively named alter egos – Betty Bluesbelter\, Procrastinating Patsy et al – to follow her dreams and get through some nightmares. The triumphs are underplayed – she’s happy being a non-celebrity – the laughs are genuine\, and the voice really should have be-come better known. '\n\nReview from the Edinburgh Fringe.
URL:https://www.vortexjazz.co.uk/event/carol-grimes-5/
LOCATION:11 Gillett Square\, London\, N16 8AZ
GEO:51.5487082;-0.0764992
X-APPLE-STRUCTURED-LOCATION;VALUE=URI;X-ADDRESS=11 Gillett Square London N16 8AZ;X-APPLE-RADIUS=500;X-TITLE=11 Gillett Square:geo:-0.0764992,51.5487082
ATTACH;FMTTYPE=image/jpeg:https://www.vortexjazz.co.uk/wp-content/uploads/2016/08/carol.jpeg
END:VEVENT
END:VCALENDAR