BEGIN:VCALENDAR
VERSION:2.0
PRODID:-//Vortex Jazz Club - ECPv4.1.3//NONSGML v1.0//EN
CALSCALE:GREGORIAN
METHOD:PUBLISH
X-WR-CALNAME:Vortex Jazz Club
X-ORIGINAL-URL:https://www.vortexjazz.co.uk
X-WR-CALDESC:Events for Vortex Jazz Club
BEGIN:VEVENT
DTSTART;TZID=UTC+0:20161110T200000
DTEND;TZID=UTC+0:20161110T230000
DTSTAMP:20260421T083210
CREATED:20160922T083126
LAST-MODIFIED:20161023T093255
UID:12338-1478808000-1478818800@www.vortexjazz.co.uk
SUMMARY:Sophia Domancich/Simon Goubert/Paul Dunmall/Chris Mapp/Percy Pursglove
DESCRIPTION:A rare chance to hear two leading French musicians - Sophia Domancich on piano and Simon Goubert on drums - playing with the incomparable Paul Dunmall on saxophones\, Chris Mapp on bass and Percy Pursglove on trumpet. This will be a fantastic night.\n\nhttps://youtu.be/BPqJTJ9Gbyc\n\nFrom a classical background originally\, Sophia Domancich's life took a different turn when she started working with the likes of Bobby Few and Steve Lacy in Paris. A further great influence was becoming involved with the likes of Pip Pyle\, the Canterbury scene and Elton Dean\, with whom she worked closely till his death in 2016. (That affinity continues with Paul Dunmall having inherited Elton's saxello.)\n\nPaul Dunmall is well known to audiences from a career that stretches through the improvised music scene here over the past 35 years. With collaborators ranging from Evan Parker\, Keith Tippett and Paul Rogers (in part through their work together in Mujician). Always a mesmerising and invigorating presence in any group he is involved with.
URL:https://www.vortexjazz.co.uk/event/sophia-domancichsimon-goubertpaul-dunmallpercy-pursglove/
LOCATION:11 Gillett Square\, London\, N16 8AZ
GEO:51.5487082;-0.0764992
X-APPLE-STRUCTURED-LOCATION;VALUE=URI;X-ADDRESS=11 Gillett Square London N16 8AZ;X-APPLE-RADIUS=500;X-TITLE=11 Gillett Square:geo:-0.0764992,51.5487082
ATTACH;FMTTYPE=image/jpeg:https://www.vortexjazz.co.uk/wp-content/uploads/2015/07/Dunmall.jpg
END:VEVENT
END:VCALENDAR