BEGIN:VCALENDAR
VERSION:2.0
PRODID:-//Vortex Jazz Club - ECPv4.1.3//NONSGML v1.0//EN
CALSCALE:GREGORIAN
METHOD:PUBLISH
X-WR-CALNAME:Vortex Jazz Club
X-ORIGINAL-URL:https://www.vortexjazz.co.uk
X-WR-CALDESC:Events for Vortex Jazz Club
BEGIN:VEVENT
DTSTART;TZID=UTC+0:20161129T200000
DTEND;TZID=UTC+0:20161129T200000
DTSTAMP:20260421T090951
CREATED:20161024T153255
LAST-MODIFIED:20161111T112504
UID:12481-1480449600-1480449600@www.vortexjazz.co.uk
SUMMARY:Square One
DESCRIPTION:Square One is  an award-winning Glasgow-based quartet\, known for their free-spirited original music and energised live performances. The music they play alights upon many modern touchstones such as folk\, fusion\, soulfulness\, ECM euro-cool and stylish\, straight ahead jazz - yet it is a clear affinity with great melody and an intelligent musical rapport that makes Square One much more than the sum of all these parts. This vibrant four-piece are the proud recipients of the Peter Whittingham Jazz Award 2015 administered by Help Musicians UK for emerging jazz artists. In October 2016\, they released their debut album ‘In Motion’ to acclaim by critics and listeners alike.\n\nSquare One features Joe Williamson on guitar\, Peter Johnstone on piano\, David Bowden on double bass and Stephen Henderson on drums.\n\n''A soulful and empathetic band with an irresistible charisma - they dominated the room from beat one'' - Julian Joseph\, BBC Radio 3\n\n''Stirring and Dynamic'' – Jazzwise\n\nWebsite: https://www.squareonequartet.com/\n\nFacebook: @squareonequartet\n\nhttps://www.facebook.com/squareonequartet/\n\nTwitter: @SquareOneJazz https://twitter.com/squareonejazz\n\n \n\n \n\n 
URL:https://www.vortexjazz.co.uk/event/joe-williamsons-square-one/
LOCATION:11 Gillett Square\, London\, N16 8AZ
GEO:51.5487082;-0.0764992
X-APPLE-STRUCTURED-LOCATION;VALUE=URI;X-ADDRESS=11 Gillett Square London N16 8AZ;X-APPLE-RADIUS=500;X-TITLE=11 Gillett Square:geo:-0.0764992,51.5487082
ATTACH;FMTTYPE=image/jpeg:https://www.vortexjazz.co.uk/wp-content/uploads/2016/10/Square-One-Promo-for-Web.jpg
END:VEVENT
END:VCALENDAR