BEGIN:VCALENDAR
VERSION:2.0
PRODID:-//Vortex Jazz Club - ECPv4.1.3//NONSGML v1.0//EN
CALSCALE:GREGORIAN
METHOD:PUBLISH
X-WR-CALNAME:Vortex Jazz Club
X-ORIGINAL-URL:https://www.vortexjazz.co.uk
X-WR-CALDESC:Events for Vortex Jazz Club
BEGIN:VEVENT
DTSTART;TZID=UTC+0:20161130T200000
DTEND;TZID=UTC+0:20161130T230000
DTSTAMP:20260421T083131
CREATED:20161119T165936
LAST-MODIFIED:20161119T171740
UID:12612-1480536000-1480546800@www.vortexjazz.co.uk
SUMMARY:Kristian Borring Group
DESCRIPTION:Guitarist Kristian Borring has a new quartet including pianist Rick Simpson\, Jon Scott (drums)\, Dave Whitford (bass).\n\nIt's always exciting to be in at the start of a new band\, and that's the chance we have here tonight at the Vortex. Many of our recent best bands have had early outings at the Vortex\, such as Polar Bear and Phronesis. From hard swing to no-nonsense grooves\, contemplative melodies to intricate musical interplay\, Borring's compositions show off his much praised sense of melody and colorful harmony in an adventurous playground of rhythm.\n\nhttps://youtu.be/5TK4sWOgpSw
URL:https://www.vortexjazz.co.uk/event/kristian-borring/
LOCATION:11 Gillett Square\, London\, N16 8AZ
GEO:51.5487082;-0.0764992
X-APPLE-STRUCTURED-LOCATION;VALUE=URI;X-ADDRESS=11 Gillett Square London N16 8AZ;X-APPLE-RADIUS=500;X-TITLE=11 Gillett Square:geo:-0.0764992,51.5487082
ATTACH;FMTTYPE=image/jpeg:https://www.vortexjazz.co.uk/wp-content/uploads/2014/02/Kristian-Borring.jpg
END:VEVENT
END:VCALENDAR