BEGIN:VCALENDAR
VERSION:2.0
PRODID:-//Vortex Jazz Club - ECPv4.1.3//NONSGML v1.0//EN
CALSCALE:GREGORIAN
METHOD:PUBLISH
X-WR-CALNAME:Vortex Jazz Club
X-ORIGINAL-URL:https://www.vortexjazz.co.uk
X-WR-CALDESC:Events for Vortex Jazz Club
BEGIN:VEVENT
DTSTART;TZID=UTC+0:20161201T200000
DTEND;TZID=UTC+0:20161201T230000
DTSTAMP:20260421T090955
CREATED:20161121T163838
LAST-MODIFIED:20161121T173025
UID:12614-1480622400-1480633200@www.vortexjazz.co.uk
SUMMARY:Mimika Orchestra plus White Flower
DESCRIPTION:\n\n\n\n\n\n\n\n\n\n\n\n\n\n\n\nAbout Mimika Orchestra\n\n\nMimika Orchestra was founded in London in 2010 by the Croatian composer and saxophonist Mak Murtic. It has been dubbed as one of London's most creative\, trans-idiomatic orchestras\, taking audiences on an adventurous journey to where jazz collides with other musical genres and art forms\, telling anthropological\, cultural and mythological stories of the future and the past.\n\n \nAbout the current Album / Music Project (Listen to the single Forgiveness Day)\n \n\nThe Album titled Divinities of the Earth and the Waters consists of 8 lenghty compositions\, featuring members of the Orchestra (Vocals\, Brass\, Woodwinds doubling on Clarinets and Flutes\, Rhythm Section\, Live Electronics) as well as guests playing authentic folk instruments (Lyra\, Tambura).\nNarrative-wise\, Divinities of the Earth and the Waters follows a psychedelic plot set on an imagined ancient Slavic festival in the preindustrial Balkans\, aesthetically reminiscent of the late Sergei Parajanov.\n\nDealing with the human condition\, love\, loss\, myth and struggle\, it's exposing the protagonist's life through his reality and imagined perception\, from folk festivals in young adulthood to his own funeral ceremony.\n\nMusically\, it is an album full of orchestral twists\, complex arrangements\, lyrics in the old Kajkavian dialect\, odd measures\, heavy grooves\, solos\, free improvisations.\n\n\n\n\n\n\nNotable Performances / Commissions\n\n\n\nMimika played at the London Jazz Festivals 2012/14/15\, Love Supreme Jazz Festival 2014 (Winners of the Jazz FM Discovery Competition)\, Latitude Festival\, Olympic & Paralympic Festivals\, and renowned London venues such as The Vortex Jazz Club\, RichMix\, Bussey Building\, The Forge\, Union Chapel\, Courtyard Theatre\, and is hosting a monthly residency at the Spice of Life in Soho. The Orchestra has been featured on BBC Radio\, Jazz FM\, major European Radio Stations via the European Broadcasting Union and HR3 - Croatian national radio dedicated to culture\, jazz & classical music.\n\n\n\n\n\nReleases / Discography\n \n- From Scratch to Structure (World Music Records\, London\, 2012) - performed by Mimika\, composed by Mak Murtic\n- A Place Glowing a Brilliant Red (World Music Records\, London\, 2015) - performed by Mimika\, composed by Mak Murtic\n\n\n- Antarctica and Other Destinations (World Music Records\, London\, 2015) - performed by the Croatian Radio Television Jazz Orchestra feat. Maja Rivic & Anabela Baric\, composed by Mak Murtic.\n\n\nPERSONELL\n\nMak Murtić - MD\, composer\, conductor\nMaja Rivić - vocals\nSylvia Schmidt - vocals\nAndy Hall - trumpet\, flugelhorn\nSam Warner - trumpet\, flugelhorn\nRosie Turton - trombone\nHannah Dilkes - trombone\nBen Kelly - sousaphone\nAndrew Linham - clarinet\nJohn Macnaughton - alto sax / clarinet\nAndrew Liddell - alto sax / sop sax / flute\nRob Milne - tenor sax / bass clarinet / clarinet / flute\nDaniel Woodfield - tenor sax\nSeb Silas - baritone sax\nLeon Røsten - piano\, keyboard\, el.guitar\nJamie Benzies - el.bass\nHarry Pope - drums\nTom Atherton - percussion\nTile Gichigi Lipere - live electronics\n\n\nfor more info please visit mimikaorchestra.com or email: mimika.orchestra@gmail.com.\n\nOTHER LINKS\n\nMimika - Divinities of the Earth and the Waters - Forgiveness Day\nhttps://www.youtube.com/watch?v=e9tn3j9ET2M\n\n\nWhite Flower is a recently formed trio featuring Sylvia Schmidt on vocals\, Will Newell on violin and Seb Silas on soprano saxophone. The trio explores the ensemble potential of combining three voices that are mostly presented as soloists. The music features poetry and music written by the members\, with emphasis on simplicity\, and also improvisations that segue and join ideas and themes. Melodies are derived from simple tonal ideas and folk music.\n\n \n\n\n\n\n\n\n\n\n\n\n\n\n\n
URL:https://www.vortexjazz.co.uk/event/mimika-orchestra/
LOCATION:11 Gillett Square\, London\, N16 8AZ
GEO:51.5487082;-0.0764992
X-APPLE-STRUCTURED-LOCATION;VALUE=URI;X-ADDRESS=11 Gillett Square London N16 8AZ;X-APPLE-RADIUS=500;X-TITLE=11 Gillett Square:geo:-0.0764992,51.5487082
ATTACH;FMTTYPE=image/jpeg:https://www.vortexjazz.co.uk/wp-content/uploads/2016/11/Mimika3-492x286.jpg
END:VEVENT
END:VCALENDAR