BEGIN:VCALENDAR
VERSION:2.0
PRODID:-//Vortex Jazz Club - ECPv4.1.3//NONSGML v1.0//EN
CALSCALE:GREGORIAN
METHOD:PUBLISH
X-WR-CALNAME:Vortex Jazz Club
X-ORIGINAL-URL:https://www.vortexjazz.co.uk
X-WR-CALDESC:Events for Vortex Jazz Club
BEGIN:VEVENT
DTSTART;TZID=UTC+0:20161206T200000
DTEND;TZID=UTC+0:20161206T230000
DTSTAMP:20260420T114440
CREATED:20160823T131557
LAST-MODIFIED:20161206T151507
UID:12134-1481054400-1481065200@www.vortexjazz.co.uk
SUMMARY:IVA BITTOVA /ABRAHAM BRODY
DESCRIPTION:UNFORTUNATELY\, DUE TO ILLNESS ABRAHAM BRODY IS UNABLE TO PERFORM A SOLO SET TONIGHT. HOWEVER HE WILL STILL PERFORM DURING THE DUO IMPROVISATIONS.\n\nDouble bill\, 2 solo sets of 40 mins each\,\n20 mins of duo improvisations Abraham & Iva\n\nLAST FEW STANDING TICKETS LEFT!\n\n\n[embed]https://youtu.be/XZh8gG-T1xM%20https://www.youtube.com/watch?v=YmbVfijvknU[/embed]\n\n\n\n\nIva Bittová’s countryman Milan Kundera wrote how Europe’s “small nations” form another Europe. The violinist-vocalist may be ‘small nation’ Czech but her musical worldview and visionary creativity acknowledge no borders. Her powers of spontaneous creativity are more bountiful than it is fair to confer on one person. Witness and marvel.\n\nFrom a background that encompasses classically-trained violin\, folk-singing\, and performance art (including collaboration with renowned Marina Abramović)\, Abraham Brody brings us into the rich and earthy world of his Lithuanian and Ukrainian roots. He creates innovative compositions and arrangements based on the ancient traditions of Lithuania--reinventing and reworking Rye-reaping chants\, Midsummer songs\, and rain invocations\, often using loop pedals and other effects to spin an enticing\, contemporary style sound-world. The combination of violin\, loop pedals\, jew’s harp\, and other traditional instruments are drawn together by Abraham’s powerful voice\, in a performance which brings us from bustle of city life back to our ancient roots\, through the dreamy melodies of Lithuania and Ukraine.\n\n"..a fine musician […] vibrant colours with plenty of virtuosity [..]An unexpected and arresting experience."- Michael Church\, Review\, the Independent\, February 2015\n\n[embed]https://youtu.be/ZEZg3TX1k_g[/embed]\n\n \n\n\n[gallery type="rectangular" ids="12137\,12136\,12135"]\n\n
URL:https://www.vortexjazz.co.uk/event/iva-bittova-abraham-brody/
LOCATION:11 Gillett Square\, London\, N16 8AZ
GEO:51.5487082;-0.0764992
X-APPLE-STRUCTURED-LOCATION;VALUE=URI;X-ADDRESS=11 Gillett Square London N16 8AZ;X-APPLE-RADIUS=500;X-TITLE=11 Gillett Square:geo:-0.0764992,51.5487082
ATTACH;FMTTYPE=image/jpeg:https://www.vortexjazz.co.uk/wp-content/uploads/2016/08/brody-and-bittova.jpg
END:VEVENT
END:VCALENDAR