BEGIN:VCALENDAR
VERSION:2.0
PRODID:-//Vortex Jazz Club - ECPv4.1.3//NONSGML v1.0//EN
CALSCALE:GREGORIAN
METHOD:PUBLISH
X-WR-CALNAME:Vortex Jazz Club
X-ORIGINAL-URL:https://www.vortexjazz.co.uk
X-WR-CALDESC:Events for Vortex Jazz Club
BEGIN:VEVENT
DTSTART;TZID=UTC+0:20161209T200000
DTEND;TZID=UTC+0:20161209T230000
DTSTAMP:20260421T100238
CREATED:20160917T001459
LAST-MODIFIED:20160917T083147
UID:12313-1481313600-1481324400@www.vortexjazz.co.uk
SUMMARY:SPARK Label Showcase: Tom Green Septet + Angus Bayley's Scrapbook + Guests
DESCRIPTION:The Vortex is delighted to showcase the SPARK label\, which is home to exciting musicians from the latest generation of jazz and creative music artists. Tom Green Septet and Angus Bayley's Scrapbook are among its artists\, and will play a double bill with guests from the Label's roster.\n\nEvan Parker classes Trombonist and composer Tom Green among "the very best arrangers" and Dame Cleo Laine praises his as "some of the most original music i have heard for a long time". Green's acclaimed septet will make their debut at the Vortex having beguiled audiences across the UK during a multi-date tour in support of their debut album Skyline\, which was released in 2015.\n\nAngus Bayley launched his debut album Scrapbook at the Vortex in September to a sell-out crowd. We are glad to welcome him back after a UK tour in support of the album.\n\nAs well as Angus and Tom's groups\, this showcase will have exclusive previews of music from groups signed for releases in 2017. These guest artists will be announced shortly.\n\nSPARK Label was established in 2014 by musicians JJ Wheeler and Tom Green. Alongside releasing and distributing music\, the label provides support and infrastructure to talented musicians\, enabling sustainable growth and career development while granting 100% artistic freedom and retention of their rights.\n\n[embed]https://www.youtube.com/watch?v=jDDNPRxBaxY&index=2&list=PL-xDEdpJpioAF_5x2l2fTnbp0-WhxJ6c7[/embed]
URL:https://www.vortexjazz.co.uk/event/spark-label-showcase-tom-green-septet-angus-bayleys-scrapbook-guests/
LOCATION:11 Gillett Square\, London\, N16 8AZ
GEO:51.5487082;-0.0764992
X-APPLE-STRUCTURED-LOCATION;VALUE=URI;X-ADDRESS=11 Gillett Square London N16 8AZ;X-APPLE-RADIUS=500;X-TITLE=11 Gillett Square:geo:-0.0764992,51.5487082
ATTACH;FMTTYPE=image/jpeg:https://www.vortexjazz.co.uk/wp-content/uploads/2016/09/Slide1.jpg
END:VEVENT
END:VCALENDAR