BEGIN:VCALENDAR
VERSION:2.0
PRODID:-//Vortex Jazz Club - ECPv4.1.3//NONSGML v1.0//EN
CALSCALE:GREGORIAN
METHOD:PUBLISH
X-WR-CALNAME:Vortex Jazz Club
X-ORIGINAL-URL:https://www.vortexjazz.co.uk
X-WR-CALDESC:Events for Vortex Jazz Club
BEGIN:VEVENT
DTSTART;TZID=UTC+0:20161214T200000
DTEND;TZID=UTC+0:20161214T230000
DTSTAMP:20260421T104531
CREATED:20161107T141745
LAST-MODIFIED:20161107T143438
UID:12554-1481745600-1481756400@www.vortexjazz.co.uk
SUMMARY:WORLD SERVICE PROJECT XMAS PARTY
DESCRIPTION:The award-winning WorldService Project return to The Vortex with a bang\, having released their third album For King and Country on Rare Noise Records\, and toured across the UK\, Ireland\, France\, Italy\, Germany\, China\, Japan and India in 2016.\n \nAs a two-day-Xmas-bonanza\, WSP invite you for their usual brand of explosive and heart-wrenching anti-Brexit statements of said five rebellious British soliders\, darting between Frank Zappa\, Meshuggah\, Weather Report and Monty Python like a daredevil on the battlefield - as well as introducing you to new faces from across the UK.\nhttps://www.worldserviceproject.co.uk/\n\nhttps://www.youtube.com/user/worldserviceproject\n\n \nJoining WSP tonight\, the powerful Zeitgeist from Leeds are a jazz/rock trio delivering their visceral music rooted in both jazz and metal. Having performed across the north\, Zeitgeist are a band to look out for.\nhttps://www.zeitgeistband.co.uk/\n \nOpening the night\, DEAD HEDGE trio were initially recognised around their home base of Liverpool as the arresting in-house-band at the (nowsadly defunct but nevertheless) indispensable city centre jazz café Mello Mello. From these roots in the eclectic and richly diverse\, DEAD HEDGE was formed\nhttps://deadhedgetrio.bandcamp.com/\n\n \nDecember 15\n \nAs December 14th\, the second night of WSP's mini-Xmas-bonanza residency will feature two very special guests alongside the wild and mischievous quintet.\n \nHailing from Edinburgh\, Thunkfish are the sole entity at the forefront of the not-quite nascent PTHRONK scene. They are a tight\, yet unpredictable blend of jazz\, punk\, thrash\, prog and funk\, with influences from Headhunters to Metallica: One moment head-nodding\, infectious grooves\, escalating to mosh-pit intensity\, one minute rhythmically ambiguous and expansive.\nhttps://www.thunkfish.co.uk/\n\n \nLong-time friends of WSP\, Snorkel are a south London based collective whose members come from different corners of the alternative scene\, bringing together the tactics of improvisation\, electronica\, and sound art. Propelled by the drums and the rhythms generated by cheap samplers and drum machines\, the band revel in the joy of angular repetition\, throwing in elastic interruptions on guitar\, trombone\, analogue and digital synthesisers and vocals.\nhttps://www.slowfoot.co.uk/snorkel.html\n\n\n[caption id="attachment_12555" align="alignnone" width="750"] World Service Project\, shot in London\, 26/02/2016.[/caption]\n\n
URL:https://www.vortexjazz.co.uk/event/world-service-project/
LOCATION:11 Gillett Square\, London\, N16 8AZ
GEO:51.5487082;-0.0764992
X-APPLE-STRUCTURED-LOCATION;VALUE=URI;X-ADDRESS=11 Gillett Square London N16 8AZ;X-APPLE-RADIUS=500;X-TITLE=11 Gillett Square:geo:-0.0764992,51.5487082
ATTACH;FMTTYPE=image/jpeg:https://www.vortexjazz.co.uk/wp-content/uploads/2016/11/WSP-4-James_Drew_Turner.jpg
END:VEVENT
END:VCALENDAR