BEGIN:VCALENDAR
VERSION:2.0
PRODID:-//Vortex Jazz Club - ECPv4.1.3//NONSGML v1.0//EN
CALSCALE:GREGORIAN
METHOD:PUBLISH
X-WR-CALNAME:Vortex Jazz Club
X-ORIGINAL-URL:https://www.vortexjazz.co.uk
X-WR-CALDESC:Events for Vortex Jazz Club
BEGIN:VEVENT
DTSTART;TZID=UTC+0:20161218T190000
DTEND;TZID=UTC+0:20161218T213000
DTSTAMP:20260421T102657
CREATED:20160922T153041
LAST-MODIFIED:20161215T173307
UID:12345-1482087600-1482096600@www.vortexjazz.co.uk
SUMMARY:Squelch Quartet
DESCRIPTION:Returns only!\n\nSquelch Quartet  play contemporary jazz with Nordic sensibilities\, inspired by the likes of E.S.T and Jan Garbarek.\n\nThey played the Varanger Jazz Festival in Vadsø\, Northern Norway earlier in 2016\, collaborating with Sami artist Elle Márjá Eira\, whose yoiking (traditional Sami vocal music) they arranged.\n\n\nSquelch Quartet are Emilio Salice (piano)\, Hector Page (Bass)\, Colin Izod (sax)\, and Liam Izod (drums).\n\n \n\n[embed]https://www.youtube.com/watch?v=YKrPoZbmP1M[/embed]\n\n 
URL:https://www.vortexjazz.co.uk/event/squelch-quartet/
LOCATION:11 Gillett Square\, London\, N16 8AZ
GEO:51.5487082;-0.0764992
X-APPLE-STRUCTURED-LOCATION;VALUE=URI;X-ADDRESS=11 Gillett Square London N16 8AZ;X-APPLE-RADIUS=500;X-TITLE=11 Gillett Square:geo:-0.0764992,51.5487082
ATTACH;FMTTYPE=image/jpeg:https://www.vortexjazz.co.uk/wp-content/uploads/2016/09/X6B2056.jpg
END:VEVENT
END:VCALENDAR