BEGIN:VCALENDAR
VERSION:2.0
PRODID:-//Vortex Jazz Club - ECPv4.1.3//NONSGML v1.0//EN
CALSCALE:GREGORIAN
METHOD:PUBLISH
X-WR-CALNAME:Vortex Jazz Club
X-ORIGINAL-URL:https://www.vortexjazz.co.uk
X-WR-CALDESC:Events for Vortex Jazz Club
BEGIN:VEVENT
DTSTART;TZID=UTC+0:20161223T200000
DTEND;TZID=UTC+0:20161223T230000
DTSTAMP:20260421T112247
CREATED:20160326T152744
LAST-MODIFIED:20161223T131903
UID:7551-1482523200-1482534000@www.vortexjazz.co.uk
SUMMARY:EVAN PARKER with SHABAKA HUTCHINS / JOHN EDWARDS / MARK SANDERS
DESCRIPTION:A giant of the saxophone and an innovator. Evan Parker plays monthly at the Vortex. Here he celebrates Christmas with a hand-picked line-up - Shabaka Hutchings (Sax\, reeds)\, John Edwards (bass)\, Mark Sanders (drums)\n\n(This replaces the originally announced Schlippenbach Trio gig\, now moved to April.)
URL:https://www.vortexjazz.co.uk/event/evan-parker-12/
LOCATION:11 Gillett Square\, London\, N16 8AZ
GEO:51.5487082;-0.0764992
X-APPLE-STRUCTURED-LOCATION;VALUE=URI;X-ADDRESS=11 Gillett Square London N16 8AZ;X-APPLE-RADIUS=500;X-TITLE=11 Gillett Square:geo:-0.0764992,51.5487082
ATTACH;FMTTYPE=image/jpeg:https://www.vortexjazz.co.uk/wp-content/uploads/2015/12/Evan_Parker_Kult_2010_021.jpg
END:VEVENT
END:VCALENDAR