BEGIN:VCALENDAR
VERSION:2.0
PRODID:-//Vortex Jazz Club - ECPv4.1.3//NONSGML v1.0//EN
CALSCALE:GREGORIAN
METHOD:PUBLISH
X-WR-CALNAME:Vortex Jazz Club
X-ORIGINAL-URL:https://www.vortexjazz.co.uk
X-WR-CALDESC:Events for Vortex Jazz Club
BEGIN:VEVENT
DTSTART;TZID=UTC+0:20161231T210000
DTEND;TZID=UTC+0:20170101T010000
DTSTAMP:20260421T104403
CREATED:20160922T110239
LAST-MODIFIED:20171023T160356
UID:12342-1483218000-1483232400@www.vortexjazz.co.uk
SUMMARY:NEW YEARS EVE @ THE VORTEX with GILL MANLY / SIMON WALLACE and SPECIAL GUESTS
DESCRIPTION:Celebrate the New Year at the Vortex. A glass of champagne\, a meal and then gorgeous jazz from Gill Manly\, Simon Wallace and special guests.... Always a sell-out book early as seating is limited.\n\n \n\n[gallery type="rectangular" ids="12848\,12843\,3980"]\n\nMentored and encouraged over the years by so many of the great and the good\, Eartha Kitt\, Blossom Dearie\, Mark Murphy\, Sheila Jordan\, Tony Bennett\, Gill has built a repertoire and individual style that is completely recognisable as her own and on first listening captivating. Since her return to jazz in 2007\,she has been  reminding us that she was and always has been the London Jazz Diva. Combining smooth elegance and dramatic power developed over time\, Gill has resurfaced on a level that has been hailed as “sublime” “world class” and “masterful”.\n\nTICKETS ARE AVAILABLE WITHOUT THE 3 COURSE BUFFET AND INCLUDES A GLASS OF CHAMPAGNE FOR £35\n\n \n\n 
URL:https://www.vortexjazz.co.uk/event/new-years-eve-at-the-vortex/
LOCATION:11 Gillett Square\, London\, N16 8AZ
GEO:51.5487082;-0.0764992
X-APPLE-STRUCTURED-LOCATION;VALUE=URI;X-ADDRESS=11 Gillett Square London N16 8AZ;X-APPLE-RADIUS=500;X-TITLE=11 Gillett Square:geo:-0.0764992,51.5487082
ATTACH;FMTTYPE=image/png:https://www.vortexjazz.co.uk/wp-content/uploads/2016/09/phoca_thumb_l_gill2016-7.png
END:VEVENT
END:VCALENDAR