BEGIN:VCALENDAR
VERSION:2.0
PRODID:-//Vortex Jazz Club - ECPv4.1.3//NONSGML v1.0//EN
CALSCALE:GREGORIAN
METHOD:PUBLISH
X-WR-CALNAME:Vortex Jazz Club
X-ORIGINAL-URL:https://www.vortexjazz.co.uk
X-WR-CALDESC:Events for Vortex Jazz Club
BEGIN:VEVENT
DTSTART;TZID=UTC+0:20170125T200000
DTEND;TZID=UTC+0:20170125T230000
DTSTAMP:20260421T113857
CREATED:20161215T160720
LAST-MODIFIED:20161223T151359
UID:12768-1485374400-1485385200@www.vortexjazz.co.uk
SUMMARY:Bruno Heinen/Larry Bartley/Rod Youngs
DESCRIPTION:Bruno Heinen\, Larry Bartley and Rod Youngs have created a new trio together. Standards\, originals played in a unique style. Sparks will fly!\n\n
URL:https://www.vortexjazz.co.uk/event/bruno-heinenlarry-bartleyrod-youngs/
LOCATION:11 Gillett Square\, London\, N16 8AZ
GEO:51.5487082;-0.0764992
X-APPLE-STRUCTURED-LOCATION;VALUE=URI;X-ADDRESS=11 Gillett Square London N16 8AZ;X-APPLE-RADIUS=500;X-TITLE=11 Gillett Square:geo:-0.0764992,51.5487082
ATTACH;FMTTYPE=image/jpeg:https://www.vortexjazz.co.uk/wp-content/uploads/2015/06/Larry_Bartley_photo.jpg
END:VEVENT
END:VCALENDAR