BEGIN:VCALENDAR
VERSION:2.0
PRODID:-//Vortex Jazz Club - ECPv4.1.3//NONSGML v1.0//EN
CALSCALE:GREGORIAN
METHOD:PUBLISH
X-WR-CALNAME:Vortex Jazz Club
X-ORIGINAL-URL:https://www.vortexjazz.co.uk
X-WR-CALDESC:Events for Vortex Jazz Club
BEGIN:VEVENT
DTSTART;TZID=UTC+0:20170209T200000
DTEND;TZID=UTC+0:20170209T200000
DTSTAMP:20260425T234602
CREATED:20170117T095816
LAST-MODIFIED:20170130T141139
UID:12955-1486670400-1486670400@www.vortexjazz.co.uk
SUMMARY:Adam Fairhall and Friends
DESCRIPTION:For this performance a solo piano set from Adam will be followed by sets involving three of his friends from the cutting edge of the London jazz and improvisation scene; baritone sax player Cath Roberts\, reeds multi-instrumentalist Tom Ward and double bassist Seth Bennett. An evening of variety\, thrilling interplay and surprising sounds is guaranteed!\n\nAdam Fairhall is able to fuse blues\, contemporary jazz and improvisation with delectable results. It is a pleasure that he is coming down from Manchester to entertain us.\n\n\n\n“A rising star of the piano” – BBC Radio 3\, Jazz Line-Up\n\n“There is no jazz code he hasn’t deciphered and mastered” – Manchester Evening News\n\nAdam’s distinctive piano playing has been noted for the diversity of its stylistic reference points; idioms drawn from any period of jazz history may be blended\, collided\, subverted\, hinted at or played completely ‘straight’ in his performances. Despite this playful and often witty approach\, Adam’s playing is committed rather than ironic and detached\, and reveals a love of piano jazz from ragtime to free.\n\nAdam’s projects as a leader include a duo with sonic artist Paul J Rogers\, in which they mix piano performance with electronic processing\, samples from early recordings and home-made instruments such as the diddley-bow. They released their debut album\, Second-Handed Blues\, on ASC Records in 2011 to excellent reviews and Radio 3 airplay\, and have performed at notable venues including the Vortex and the Capstone Theatre\, Liverpool.\n\n\n
URL:https://www.vortexjazz.co.uk/event/adam-fairhall/
LOCATION:11 Gillett Square\, London\, N16 8AZ
GEO:51.5487082;-0.0764992
X-APPLE-STRUCTURED-LOCATION;VALUE=URI;X-ADDRESS=11 Gillett Square London N16 8AZ;X-APPLE-RADIUS=500;X-TITLE=11 Gillett Square:geo:-0.0764992,51.5487082
ATTACH;FMTTYPE=image/jpeg:https://www.vortexjazz.co.uk/wp-content/uploads/2016/02/ADAM-FAIRHALL-TOM-WARD.jpg
END:VEVENT
END:VCALENDAR