BEGIN:VCALENDAR
VERSION:2.0
PRODID:-//Vortex Jazz Club - ECPv4.1.3//NONSGML v1.0//EN
CALSCALE:GREGORIAN
METHOD:PUBLISH
X-WR-CALNAME:Vortex Jazz Club
X-ORIGINAL-URL:https://www.vortexjazz.co.uk
X-WR-CALDESC:Events for Vortex Jazz Club
BEGIN:VEVENT
DTSTART;TZID=UTC+0:20170212T153000
DTEND;TZID=UTC+0:20170212T180000
DTSTAMP:20260425T234743
CREATED:20170111T180937
LAST-MODIFIED:20170208T134727
UID:12925-1486913400-1486922400@www.vortexjazz.co.uk
SUMMARY:London Jazz Orchestra - Vortex Live Sessions
DESCRIPTION: \n\nLive at the Vortex Anniversary recordings: London's famous jazz orchestra celebrates its 25th anniversary at the Vortex Club with two live recorded gigs  (12th and 18th February) which will result in a cracking new "Live at the Vortex" CD.  Join the audience for these special events and help make history!
URL:https://www.vortexjazz.co.uk/event/ljo-2/
LOCATION:11 Gillett Square\, London\, N16 8AZ
GEO:51.5487082;-0.0764992
X-APPLE-STRUCTURED-LOCATION;VALUE=URI;X-ADDRESS=11 Gillett Square London N16 8AZ;X-APPLE-RADIUS=500;X-TITLE=11 Gillett Square:geo:-0.0764992,51.5487082
ATTACH;FMTTYPE=image/jpeg:https://www.vortexjazz.co.uk/wp-content/uploads/2017/01/LJO-June-2015-1-492x327.jpg
END:VEVENT
BEGIN:VEVENT
DTSTART;TZID=UTC+0:20170212T193000
DTEND;TZID=UTC+0:20170212T220000
DTSTAMP:20260425T234743
CREATED:20161215T171041
LAST-MODIFIED:20170210T154628
UID:12780-1486927800-1486936800@www.vortexjazz.co.uk
SUMMARY:LIONEL LOUEKE / NICOLAS KUMMERT RAINBOW (2 nights) 1ST NIGHT w/ special guests ORPHY ROBINSON / JOHN EDWARDS / MARK SANDERS
DESCRIPTION:       \n\n \n\nLionel Loueke is known as the renowned guitarist for many years with Herbie Hancock\, with releases on the Blue Note label. This performance with Nicolas Kummert presents a departure from the previous times at the Vortex.\n\nTonight they play a set based on the Nicolas' new album Rainbow on Edition Records\, before joining with Orphy Robinson\, John Edwards and Mark Sanders\, three improvisers with stellar reputations themselves.\n\n“Rainbow stands for an idea that was somehow present in my mind during the whole process of putting the band together and composing the music...” Nicolas recalls\, “...the need to embrace differences and praise them\, because we need every color\, every single shade of them\, to make the beautiful world we live in”. With titles like -Diversity over purity- -Rainbow people- or Nicolas older composition -Liberté- it is clear there is more then just music at stake.\nMaybe it is also that sensible humanity that convinced Lionel Loueke\, who is also known for his profound humanity and openness\, to accept the invitation of a relatively unknown belgian sax player between his collaborations with NY peers like Herbie Hancock\, Chris Potter or Robert Glasper...\n\nThe result is a rich\, but never complicated music that proved very compelling to their audiences sofar... and this is just the beginning of a beautiful collaboration.\n\nTICKETS FOR MONDAY 13 8PM  https://www.vortexjazz.co.uk/event/nicolas-kummertlionel-loueke-rainbow-2-night-residency2/
URL:https://www.vortexjazz.co.uk/event/nicholas-kummertlionel-loueke-two-night-residency/
LOCATION:11 Gillett Square\, London\, N16 8AZ
GEO:51.5487082;-0.0764992
X-APPLE-STRUCTURED-LOCATION;VALUE=URI;X-ADDRESS=11 Gillett Square London N16 8AZ;X-APPLE-RADIUS=500;X-TITLE=11 Gillett Square:geo:-0.0764992,51.5487082
ATTACH;FMTTYPE=image/jpeg:https://www.vortexjazz.co.uk/wp-content/uploads/2015/01/Lionel-2.jpg
END:VEVENT
END:VCALENDAR