BEGIN:VCALENDAR
VERSION:2.0
PRODID:-//Vortex Jazz Club - ECPv4.1.3//NONSGML v1.0//EN
CALSCALE:GREGORIAN
METHOD:PUBLISH
X-WR-CALNAME:Vortex Jazz Club
X-ORIGINAL-URL:https://www.vortexjazz.co.uk
X-WR-CALDESC:Events for Vortex Jazz Club
BEGIN:VEVENT
DTSTART;TZID=UTC+0:20170215T200000
DTEND;TZID=UTC+0:20170215T230000
DTSTAMP:20260426T011328
CREATED:20170111T182140
LAST-MODIFIED:20170130T140004
UID:12927-1487188800-1487199600@www.vortexjazz.co.uk
SUMMARY:NIRAN OBASA TRIO
DESCRIPTION:THE NIRAN OBASA TRIO\nSTANLEY OHIOS ( drums)\nDARLINGTON JOSEPH (bass)\nNIRAN OBASA (piano)\nNigerian pianist Niran Obasa established his name as one of the foremost session musicians and the gospel music in Lagos. He is the keyboardist with The Yoruba Women Choir and The Rhythms. Lately he focuses on his compositions that bring together his secular and non-secular to create improvisational music that is totally unique.
URL:https://www.vortexjazz.co.uk/event/niran-obasa-2/
LOCATION:11 Gillett Square\, London\, N16 8AZ
GEO:51.5487082;-0.0764992
X-APPLE-STRUCTURED-LOCATION;VALUE=URI;X-ADDRESS=11 Gillett Square London N16 8AZ;X-APPLE-RADIUS=500;X-TITLE=11 Gillett Square:geo:-0.0764992,51.5487082
ATTACH;FMTTYPE=image/jpeg:https://www.vortexjazz.co.uk/wp-content/uploads/2017/01/Niran-Obasa-492x328.jpg
END:VEVENT
END:VCALENDAR