BEGIN:VCALENDAR
VERSION:2.0
PRODID:-//Vortex Jazz Club - ECPv4.1.3//NONSGML v1.0//EN
CALSCALE:GREGORIAN
METHOD:PUBLISH
X-WR-CALNAME:Vortex Jazz Club
X-ORIGINAL-URL:https://www.vortexjazz.co.uk
X-WR-CALDESC:Events for Vortex Jazz Club
BEGIN:VEVENT
DTSTART;TZID=UTC+0:20170219T140000
DTEND;TZID=UTC+0:20170219T180000
DTSTAMP:20260426T011322
CREATED:20170127T183129
LAST-MODIFIED:20220209T104331
UID:13045-1487512800-1487527200@www.vortexjazz.co.uk
SUMMARY:MOPOMOSO
DESCRIPTION:\nThis month Mopomoso presents an all UK programme of small group interplay with seven highly regarded musicians\n\nThe Paulinus trio - John Rangecroft (reeds) / Marcio Mattos (bass) / Dave Tucker (guitar)\nA welcome return to Mopomoso from this no nonsense group. Ears open\, eyes down and full steam ahead! A constantly shifting musical narrative of depth and clarity.\n\nPat Thomas (keyboards) / Kay Grant (voice) duo\nTwo musicians featured on the ‘Making Rooms’ 4 CD boxed set (Weekertoft)\, for which they have received rave reviews\, here performing as a duo for the first time. Expect playful inventiveness\, symathetic interplay and large swathes of rich sonorities juxtaposed with moments of microscopic detail. Enjoy the journey!\n\n Neil Metcalf (flute) / John Russell (guitar) duo\n\n\nWithin the world of free improvisation Neil’s musicianship and total dedication to his art is of almost legendary status. He will constantly develop a melodic fragment or stretch its parameters in a seemingly endless stream of invention. Joined here by guitarist and Mopomoso founder Russell in a duo that promises to be a delight.\n\n[gallery type="rectangular" ids="13046\,13047\,13048"]\n\n
URL:https://www.vortexjazz.co.uk/event/mopomoso-28/
LOCATION:11 Gillett Square\, London\, N16 8AZ
GEO:51.5487082;-0.0764992
X-APPLE-STRUCTURED-LOCATION;VALUE=URI;X-ADDRESS=11 Gillett Square London N16 8AZ;X-APPLE-RADIUS=500;X-TITLE=11 Gillett Square:geo:-0.0764992,51.5487082
ATTACH;FMTTYPE=image/jpeg:https://www.vortexjazz.co.uk/wp-content/uploads/2017/01/unnamed-1.jpg
END:VEVENT
BEGIN:VEVENT
DTSTART;TZID=UTC+0:20170219T193000
DTEND;TZID=UTC+0:20170219T223000
DTSTAMP:20260426T011322
CREATED:20170117T095142
LAST-MODIFIED:20170217T182235
UID:12951-1487532600-1487543400@www.vortexjazz.co.uk
SUMMARY:HUW V WILLIAMS TRIO with DEVIN GRAY\, GEORGE CROWLEY
DESCRIPTION:Huw Vaughan Williams – Bass\nDevin Gray – Drums\nGeorge Crowley – Saxophone\n\n\n\nHUW VAUGHAN WILLIAMS\nWinner of the 2012 Yamaha Jazz Scholars Prize from The Royal Welsh College of Music and Drama\, Huw draws on a rich combination of his Welsh roots\, his training in Jazz and the contemporary creative music scenes in London\, Brooklyn and Manhattan. His latest album was selected as a CD of 2016 by John Fordham of the Guardian.\n\n“I really like the idea of music coming from the mixing pot of all your history\, so this is just as much about a teenage rock phase in North Wales as a mid twenties Free Jazz phase in London.”\n\nWith a fast growing CV lit up by the names of some of his heroes including Jim Black\, Michael Blake\, Jason Rebello\, Neil Yates and long time mentor Huw Warren\, Huw V Williams is building a beautiful bass filled world of free music and primal creativity.\n\nDEVIN GRAY\nAn artist interested in multiple musical directions and one who strives for quality and sincerity in his work. His exciting energy has compelled him towards many different musical directions and projects. Considered by his contemporaries as cutting edge\, Gray shows promise as an artist that will not only move the music forward\, but one who will share his unique musical vision with the world of music.\n\nDevin Gray’s fresh approach to modern drumming has enabled him to play with many of America’s great jazz musicians. He has performed and recorded with innovative musicians of contrasting styles and backgrounds such as: David Liebman\, Tony Malaby\, Gary Thomas\, Ingrid Jensen\, Dave Burrell\, Dave Ballou\, Michael Formanek\, Nate Wooley\, Stephan Crump\, George Garzone\, Chris Speed\, Drew Gress\, Sam Rivers\, Ralph Alessi\, John O’Gallagher\, Ellery Eskelin\, Kris Davis\, Ted Rosenthal\, Matt Mitchell\, Uri Caine\, Andrew D’Angelo\, Vardan Ovsepian\, Bill McHenry as well as many others.\n\nGEORGE CROWLEY\nGeorge Crowley is one of the most prominent new voices among the sea of burgeoning creative musicians living in London\, England. A performer who is equally adept at both saxophone and clarinet\, he is instantly recognizable by his expressively direct tone and infectious improvisations. Moreover\, Crowley is increasingly recognized by fellow musicians and critics alike for his strong gifts in composition\, which carry the fine quality of equally marrying both mind and heart while providing ample yet surprising room for his improvising bandmates.
URL:https://www.vortexjazz.co.uk/event/huw-v-williams-trio-with-devin-gray-george-crowley/
LOCATION:11 Gillett Square\, London\, N16 8AZ
GEO:51.5487082;-0.0764992
X-APPLE-STRUCTURED-LOCATION;VALUE=URI;X-ADDRESS=11 Gillett Square London N16 8AZ;X-APPLE-RADIUS=500;X-TITLE=11 Gillett Square:geo:-0.0764992,51.5487082
ATTACH;FMTTYPE=image/jpeg:https://www.vortexjazz.co.uk/wp-content/uploads/2017/01/12957362_852981784824087_1750704556_n-e1484646688227.jpg
END:VEVENT
END:VCALENDAR