BEGIN:VCALENDAR
VERSION:2.0
PRODID:-//Vortex Jazz Club - ECPv4.1.3//NONSGML v1.0//EN
CALSCALE:GREGORIAN
METHOD:PUBLISH
X-WR-CALNAME:Vortex Jazz Club
X-ORIGINAL-URL:https://www.vortexjazz.co.uk
X-WR-CALDESC:Events for Vortex Jazz Club
BEGIN:VEVENT
DTSTART;TZID=UTC+0:20170309T200000
DTEND;TZID=UTC+0:20170309T223000
DTSTAMP:20260426T011420
CREATED:20170126T154034
LAST-MODIFIED:20170228T172832
UID:13037-1489089600-1489098600@www.vortexjazz.co.uk
SUMMARY:ERRATIC SCORES - where art meets poetry
DESCRIPTION:\n\n \n\nWhat does a painting sound like?\n\nErratic Scores is an experimental event merging visual arts and poetry performance.\n\nIn the first part of the evening poets will perform written responses to artist Aurelie Freoua’s vibrant abstract paintings. The event will then proceed to pair visual artists with poets to create spontaneous poetry performances in response to live visual art. Throughout this improvised section the visual element will be projected live\, creating a full audiovisual experience which allows the audience to witness all stages of this unique creative process.\n\nThen visual artists with poets to create spontaneous poetry performances in response to live visual art… and we will finish with an audiovisual performance by Uran Apak! \n\nThis event will also be featuring the poets Elliot Koubis\, Lavinia Singer\, Hannah Gordon and Marika Josef as well as improvising poets Antosh Wojcik\, Jonathan Catherall\, Allan Struthers and Jonathan Mann\, and artists Alix Marie Pauline Grs\, Sheena Calvert and Alexander Allen.\n\n\n \n\nErratic Scores will act as a counter-point to the event ‘Drawing Breath’ which took place in April 2016 and involved visual artists responding live to poems they had never heard before. Videos of this previous event are available at: https://drawingbreath.net/\n\nhttps://youtu.be/pAWpl6mme0U
URL:https://www.vortexjazz.co.uk/event/erratic-scores/
LOCATION:11 Gillett Square\, London\, N16 8AZ
GEO:51.5487082;-0.0764992
X-APPLE-STRUCTURED-LOCATION;VALUE=URI;X-ADDRESS=11 Gillett Square London N16 8AZ;X-APPLE-RADIUS=500;X-TITLE=11 Gillett Square:geo:-0.0764992,51.5487082
ATTACH;FMTTYPE=image/jpeg:https://www.vortexjazz.co.uk/wp-content/uploads/2017/01/Erratic-Scores-visual-2.jpg
END:VEVENT
END:VCALENDAR