BEGIN:VCALENDAR
VERSION:2.0
PRODID:-//Vortex Jazz Club - ECPv4.1.3//NONSGML v1.0//EN
CALSCALE:GREGORIAN
METHOD:PUBLISH
X-WR-CALNAME:Vortex Jazz Club
X-ORIGINAL-URL:https://www.vortexjazz.co.uk
X-WR-CALDESC:Events for Vortex Jazz Club
BEGIN:VEVENT
DTSTART;TZID=UTC+0:20170322T200000
DTEND;TZID=UTC+0:20170322T230000
DTSTAMP:20260426T011153
CREATED:20170216T103903
LAST-MODIFIED:20170315T181827
UID:13195-1490212800-1490223600@www.vortexjazz.co.uk
SUMMARY:HOLUB / DONIN + GUESTS
DESCRIPTION: \n\n\n\nMark Holub and Liran Donin\, two of the key members of Led Bib\, lead a night of improvised and new atmospheric music. Tonight they invite trumpeter Chris Batchelor\, one of this country's leading musicians and Tom Herbert\, the noticeable bassist of The Invisible\, Polar Bear and many more. A thrilling night of melody\, improvisation and surprise.\n\n 
URL:https://www.vortexjazz.co.uk/event/holubdonin-guests/
LOCATION:11 Gillett Square\, London\, N16 8AZ
GEO:51.5487082;-0.0764992
X-APPLE-STRUCTURED-LOCATION;VALUE=URI;X-ADDRESS=11 Gillett Square London N16 8AZ;X-APPLE-RADIUS=500;X-TITLE=11 Gillett Square:geo:-0.0764992,51.5487082
ATTACH;FMTTYPE=image/jpeg:https://www.vortexjazz.co.uk/wp-content/uploads/2017/02/mark-holub-02.jpg
END:VEVENT
END:VCALENDAR