BEGIN:VCALENDAR
VERSION:2.0
PRODID:-//Vortex Jazz Club - ECPv4.1.3//NONSGML v1.0//EN
CALSCALE:GREGORIAN
METHOD:PUBLISH
X-WR-CALNAME:Vortex Jazz Club
X-ORIGINAL-URL:https://www.vortexjazz.co.uk
X-WR-CALDESC:Events for Vortex Jazz Club
BEGIN:VEVENT
DTSTART;TZID=UTC+0:20170326T200000
DTEND;TZID=UTC+0:20170326T230000
DTSTAMP:20260426T011328
CREATED:20170221T155118
LAST-MODIFIED:20170221T155359
UID:13236-1490558400-1490569200@www.vortexjazz.co.uk
SUMMARY:ANITA WARDELL WORKSHOP BAND
DESCRIPTION:Anita Wardell ends her workshop weekend with a show where they all show what they have learnt and she then gives a magisterial performance with her band\, as ever.
URL:https://www.vortexjazz.co.uk/event/anita-wardell-workshop-band/
LOCATION:11 Gillett Square\, London\, N16 8AZ
GEO:51.5487082;-0.0764992
X-APPLE-STRUCTURED-LOCATION;VALUE=URI;X-ADDRESS=11 Gillett Square London N16 8AZ;X-APPLE-RADIUS=500;X-TITLE=11 Gillett Square:geo:-0.0764992,51.5487082
ATTACH;FMTTYPE=image/jpeg:https://www.vortexjazz.co.uk/wp-content/uploads/2017/02/Anita-Wardell-492x738.jpg
END:VEVENT
END:VCALENDAR