BEGIN:VCALENDAR
VERSION:2.0
PRODID:-//Vortex Jazz Club - ECPv4.1.3//NONSGML v1.0//EN
CALSCALE:GREGORIAN
METHOD:PUBLISH
X-WR-CALNAME:Vortex Jazz Club
X-ORIGINAL-URL:https://www.vortexjazz.co.uk
X-WR-CALDESC:Events for Vortex Jazz Club
BEGIN:VEVENT
DTSTART;TZID=UTC+0:20170401T200000
DTEND;TZID=UTC+0:20170401T230000
DTSTAMP:20260426T023339
CREATED:20170223T165004
LAST-MODIFIED:20170331T094937
UID:13239-1491076800-1491087600@www.vortexjazz.co.uk
SUMMARY:JASPER HØIBY’S FELLOW CREATURES (1ST NIGHT)
DESCRIPTION:\n\n\n\n \n\n\n\n\n[gallery type="rectangular" ids="13245\,13244"]\n\n \n\nJasper Høiby (bass)\n\nMark Lockheart\, Jim Gold (saxes)\n\n\nLaura Jurd (trumpet and flugel)\n\nWill Barry (piano) \n\nCorrie Dick (drums and percussion).\n\n\n\n\n\n\n\n\n\n\n\n\n\nReturning to The Vortex for the first time since their sold out debut shows in January 2016\, Jasper Høiby's Fellow Creatures are primed to pounce for what promises to be a truly spectacular two evenings of music.\n\nBuilding on the triumph of their 2016 debut album\, here they abandon the controlled studio environment for a no-holds-barred live album recording with the heavyweight horn section of saxophonist Mark Lockheart and trumpeter Laura Jurd augmented/joined by ferocious young sax scientist Jim Gold.\n\nExpect earthy Nordic grooves\, rousing horn anthems and rhythmic face-offs from an all star band described by the Guardian as "masters of evolving melody". This is a unique opportunity to experience the intimate inner-workings of a band that\, although in it's early years\, has already exquisitely combined Høiby's signature rhythmic sophistication with unhinged European freedom.\n\nThe band consists of - Jasper Høiby (bass) Mark Lockheart (saxes)\, Laura Jurd (trumpet and flugel)\, Will Barry (piano) and Corrie Dick (drums and percussion).\n\n\n\n\n“I can only describe it as joyous. It’s a joyous album..“\n\nJAMIE CULLUM BBC RADIO 2 -UK\n\n“..rhythm-twisting struts are played with the breeziness of a carefree street band.”\nJOHN FORDHAM\, GUARDIAN -UK ****\n\n“Strong themes and clear narratives balance optimism and doubt\, reflecting the albums inspiration – the radical ecology of Naomi Kleins book\nThis Changes Everything.”\n\nMIKE HOBART\, FINANCIAL TIMES -UK ****\n\nSeating still available for Sunday show! https://www.wegottickets.com/event/392062\n\n\n \n\n \n\n[embed]https://youtu.be/k5lL6PWT5zc[/embed]\n\n\n\n\n\nWebsite - https://www.jasperhoiby.com\n\nReviews - https://bit.ly/2lOERMf\n\n\n\n\n\n\n\n\n\n\n\n\n\n\n
URL:https://www.vortexjazz.co.uk/event/jasper-hoibys-fellow-creatures-1st-night/
LOCATION:11 Gillett Square\, London\, N16 8AZ
GEO:51.5487082;-0.0764992
X-APPLE-STRUCTURED-LOCATION;VALUE=URI;X-ADDRESS=11 Gillett Square London N16 8AZ;X-APPLE-RADIUS=500;X-TITLE=11 Gillett Square:geo:-0.0764992,51.5487082
ATTACH;FMTTYPE=image/jpeg:https://www.vortexjazz.co.uk/wp-content/uploads/2017/02/unspecified-1.jpeg
END:VEVENT
END:VCALENDAR